BEGIN:VCALENDAR
VERSION:2.0
PRODID:-//ChamberMaster//Event Calendar 2.0//EN
METHOD:PUBLISH
X-PUBLISHED-TTL:P3D
REFRESH-INTERVAL:P3D
CALSCALE:GREGORIAN
BEGIN:VEVENT
DTSTART:20100320T180000Z
DTEND:20100320T200000Z
X-MICROSOFT-CDO-ALLDAYEVENT:FALSE
SUMMARY:Potty Learning
DESCRIPTION:Join us as we help take some of the anxiety and frustration out of 'Potty Training.' Using the potty is a learning process. Every child has their own clock and will meet their own schedule for learning the potty. Teaching your child to use the potty should be just like teaching them to feed themselves\, dress themselves\, learn their letters.  It is a slow learning process\, that starts by leading with example and encompasses a lot of patience\, love and guidance. Learn how to follow your child's lead instead of "training" them to use the toilet. Join us for this informative class on how to help your growing toddler make the transition to "big kid underwear" and be successful in the often daunting transition from diapers to potty.
X-ALT-DESC;FMTTYPE=text/html:Join us as we help take some of the anxiety and frustration out of 'Potty Training.' Using the potty is a learning process. Every child has their own clock and will meet their own schedule for learning the potty. Teaching your child to use the potty should be just like teaching them to feed themselves\, dress themselves\, learn their letters.  It is a slow learning process\, that starts by leading with example and encompasses a lot of patience\, love and guidance. Learn how to follow your child's lead instead of "training" them to use the toilet. Join us for this informative class on how to help your growing toddler make the transition to "big kid underwear" and be successful in the often daunting transition from diapers to potty. 
LOCATION:Bellybum Boutique
UID:e.697.285
SEQUENCE:3
DTSTAMP:20260421T154142Z
URL:http://lincolnsquareravenswood.smartcms.site/events/details/potty-learning-285
END:VEVENT

END:VCALENDAR
