BEGIN:VCALENDAR
VERSION:2.0
PRODID:-//ChamberMaster//Event Calendar 2.0//EN
METHOD:PUBLISH
X-PUBLISHED-TTL:P3D
REFRESH-INTERVAL:P3D
CALSCALE:GREGORIAN
BEGIN:VEVENT
DTSTART:20100223T143000Z
DTEND:20100223T153000Z
X-MICROSOFT-CDO-ALLDAYEVENT:FALSE
SUMMARY:PR 101
DESCRIPTION:A crash course in the basics of public relations.  Discover what News is\, how to get your business in the News and how to pitch the media.  Bring a press release you have created on your business or a new product to the workshop and leave with a press release that is media ready!  You will also receive printed materials and several tips on the Do's & Don'ts of media relations.  The seminar will be lead by Lisa Ripson of Ripson Communications\, a veteran broadcast news journalist turned public relations enthusiast. There are limited spots available for this seminar\, please RSVP to this event by Feb 22nd.
X-ALT-DESC;FMTTYPE=text/html:<div><div style="text-align: center\; margin: 0in 0in 0pt"><span style="font-size: x-small"><span style="font-family: Verdana">A crash course in the basics of public relations. &nbsp\;Discover what News is\, how to get your business in the News and how to pitch the media. &nbsp\;Bring a press release you have created on your business or a new product to the workshop and leave with a press release that is media ready! &nbsp\;You will also receive printed materials and several tips on the Do&rsquo\;s &amp\; Don&rsquo\;ts of media relations. &nbsp\;The seminar will be lead by Lisa Ripson of Ripson Communications\, a veteran broadcast news journalist turned public relations enthusiast. There are limited spots available for this seminar\, please RSVP to this event by Feb 22nd. </span></span></div></div>
LOCATION:Salamander of Chicago4740 N Lincoln Ave
UID:e.697.66
SEQUENCE:3
DTSTAMP:20260421T173011Z
URL:http://lincolnsquareravenswood.smartcms.site/events/details/pr-101-66
END:VEVENT

END:VCALENDAR
