BEGIN:VCALENDAR
VERSION:2.0
PRODID:-//ChamberMaster//Event Calendar 2.0//EN
METHOD:PUBLISH
X-PUBLISHED-TTL:P3D
REFRESH-INTERVAL:P3D
CALSCALE:GREGORIAN
BEGIN:VEVENT
DTSTART:20110521T230000Z
DTEND:20110522T020000Z
X-MICROSOFT-CDO-ALLDAYEVENT:FALSE
SUMMARY:Queen of Angels' Boy Scout Troop 894's Mostaccioli Dinner
DESCRIPTION:Please join us for Boy Scout Troop 894's Mostaccioli Dinner on Saturday May 21st from 6-9PM in the Queen of Angels lower church\, 2330 W. Sunnyside. The menu includes pasta\, salad\, bread\, soft drinks\, coffee and tea. Scouts will demonstrate their skills\, a raffle will offer adults and kids items\, and a bake sale will satisfy your sweet tooth. Tickets\, $7 for adults\, $4 for children and seniors\, will be on sale at the door. Thank you for supporting Troop 894!
X-ALT-DESC;FMTTYPE=text/html:<span style="font-size: 10pt"><span style="font-family: arial\, sans-serif">Please join us for Boy Scout Troop 894&rsquo\;s Mostaccioli Dinner on Saturday May 21st from 6-9PM in the Queen of Angels lower church\, 2330 W. Sunnyside. The menu includes pasta\, salad\, bread\, soft drinks\, coffee and tea. Scouts will demonstrate their skills\, a raffle will offer adults and kids items\, and a bake sale will satisfy your sweet tooth. Tickets\, $7 for adults\, $4 for children and seniors\, will be on sale at the door. Thank you for supporting Troop 894!&nbsp\;&nbsp\;</span></span>
LOCATION:
UID:e.697.865
SEQUENCE:3
DTSTAMP:20260420T160904Z
URL:http://lincolnsquareravenswood.smartcms.site/events/details/queen-of-angels-boy-scout-troop-894-s-mostaccioli-dinner-865
END:VEVENT

END:VCALENDAR
