BEGIN:VCALENDAR
VERSION:2.0
PRODID:-//ChamberMaster//Event Calendar 2.0//EN
METHOD:PUBLISH
X-PUBLISHED-TTL:P3D
REFRESH-INTERVAL:P3D
CALSCALE:GREGORIAN
BEGIN:VEVENT
DTSTART:20120711T233000Z
DTEND:20120712T023000Z
X-MICROSOFT-CDO-ALLDAYEVENT:FALSE
SUMMARY:Rack & Jazz
DESCRIPTION:Enjoy smooth Jazz sounds accompanied by our special menu including: Pork Ribs\, Cole Slaw and your Choice of Potato!! Reservations recommended.
X-ALT-DESC;FMTTYPE=text/html:Enjoy smooth <strong>Jazz</strong> sounds accompanied by our special menu including: <strong>Pork Ribs</strong>\, <strong>Cole Slaw</strong> and your <strong>Choice of Potato!!&nbsp\;</strong>Reservations recommended.
LOCATION:2251 West Lawrence\, Chicago\, !L 60625
UID:e.697.3593
SEQUENCE:3
DTSTAMP:20260419T183236Z
URL:http://lincolnsquareravenswood.smartcms.site/events/details/rack-jazz-3593
END:VEVENT

END:VCALENDAR
