BEGIN:VCALENDAR
VERSION:2.0
PRODID:-//ChamberMaster//Event Calendar 2.0//EN
METHOD:PUBLISH
X-PUBLISHED-TTL:P3D
REFRESH-INTERVAL:P3D
CALSCALE:GREGORIAN
BEGIN:VEVENT
DTSTART:20120801T003000Z
DTEND:20120801T020000Z
X-MICROSOFT-CDO-ALLDAYEVENT:FALSE
SUMMARY:Ravenswood Health Center celebrates National Parents Day!
DESCRIPTION:The Ravenswood Health Center celebrates National Parents Day. On July 31st\, 2012\, everybody is invited to an informative evening with Dr. Jason Fennema as he presents "Creating Opimal Health for you and your child".
X-ALT-DESC;FMTTYPE=text/html:The Ravenswood Health Center celebrates National Parents Day. On July 31st\, 2012\, everybody is invited to an informative evening with Dr. Jason Fennema as he presents &quot\;Creating Opimal Health for you and your child&quot\;.<br />\n<br />\n
LOCATION:Ravenswood Health Center 4256 N. Ravenswood Ave. Parking at the building is complimentary
UID:e.697.3608
SEQUENCE:3
DTSTAMP:20260419T183536Z
URL:http://lincolnsquareravenswood.smartcms.site/events/details/ravenswood-health-center-celebrates-national-parents-day-3608
END:VEVENT

END:VCALENDAR
