BEGIN:VCALENDAR
VERSION:2.0
PRODID:-//ChamberMaster//Event Calendar 2.0//EN
METHOD:PUBLISH
X-PUBLISHED-TTL:P3D
REFRESH-INTERVAL:P3D
CALSCALE:GREGORIAN
BEGIN:VEVENT
DTSTART:20110501T140000Z
DTEND:20110501T170000Z
X-MICROSOFT-CDO-ALLDAYEVENT:FALSE
SUMMARY:Ravenswood Run "Runners Special" Brunch
DESCRIPTION:In honor of all of the runners we will be offering a "Runners Special" on May 1st. The brunch special includes: two scrambled eggs\, potatoes\, toast and a glass of orange juice or coffee. Stop in with your number to get the deal
X-ALT-DESC;FMTTYPE=text/html:In honor of all of the runners we will be offering a "Runners Special" on May 1st. The brunch special includes: two scrambled eggs\, potatoes\, toast and a glass of orange juice or coffee. Stop in with your number to get the deal
LOCATION:Angel Food Bakery 1636 West Montrose Ave.
UID:e.697.859
SEQUENCE:3
DTSTAMP:20260420T160806Z
URL:http://lincolnsquareravenswood.smartcms.site/events/details/ravenswood-run-runners-special-brunch-859
END:VEVENT

END:VCALENDAR
