BEGIN:VCALENDAR
VERSION:2.0
PRODID:-//ChamberMaster//Event Calendar 2.0//EN
METHOD:PUBLISH
X-PUBLISHED-TTL:P3D
REFRESH-INTERVAL:P3D
CALSCALE:GREGORIAN
BEGIN:VEVENT
DTSTART:20120221T000000Z
DTEND:20120221T000000Z
X-MICROSOFT-CDO-ALLDAYEVENT:FALSE
SUMMARY:Rosenmontag at the DANKhaus
DESCRIPTION:Come celebrate the end of the Mardi Gras season in Chicago.\n\n\n\nPerformances by the Fanfaren Corp & Amazonen\n\n\n\nSpecial Guests-The Blauen Funken from Edmonton\, Alberta\, Canada
X-ALT-DESC;FMTTYPE=text/html:Come celebrate the end of the Mardi Gras season in Chicago.<br />\n<br />\nPerformances by the Fanfaren Corp &amp\; Amazonen<br />\n<br />\nSpecial Guests-The Blauen Funken from Edmonton\, Alberta\, Canada
LOCATION:5th Floor of the DANK Haus 4740 N. Western Ave. Chicago\, IL 60625
UID:e.697.2456
SEQUENCE:3
DTSTAMP:20260420T013323Z
URL:http://lincolnsquareravenswood.smartcms.site/events/details/rosenmontag-at-the-dankhaus-2456
END:VEVENT

END:VCALENDAR
