BEGIN:VCALENDAR
VERSION:2.0
PRODID:-//ChamberMaster//Event Calendar 2.0//EN
METHOD:PUBLISH
X-PUBLISHED-TTL:P3D
REFRESH-INTERVAL:P3D
CALSCALE:GREGORIAN
BEGIN:VEVENT
DTSTART:20120314T150000Z
DTEND:20120314T180000Z
X-MICROSOFT-CDO-ALLDAYEVENT:FALSE
SUMMARY:Senior Exemption Workshops
DESCRIPTION:Senior Exemption Workshops\n\nSponsored by Cook County Commissioner John Fritchey  \n\n \n\nTo make it easier for my constituents to get help with their senior exemption applications\, I will be holding a series of workshops around the 12th District to give seniors the one-on-one help they need.  A big thanks to Congressman Mike Quigley and 47th Ward Alderman Ameya Pawar for agreeing to host us as we work to assist people in getting the tax exemptions they're entitled to! \n\n \n\nAt these workshops\, members of my staff can assist you in completing the required applications.  We will then notarize the forms on-site and turn them into the Assessor's office for processing. And that's it - your exemption filing will be complete!\n\n \n\nWorkshop details are as follows:\n\n \n\nMy District Office\n\nWhen: Tuesday\, March 6\, 10am-1pm\n\nWhere: 2539 N. Southport Ave.\n\n \n\nCongressman Mike Quigley's District Office\n\nWhen: Friday\, March 9\, 1-4pm\n\nWhere: 3742 W. Irving Park\n\n \n\n47th Ward Alderman Pawar's Office\n\nWhen: Wednesday\, March 14\, 10am-1pm\n\nWhere: 4243 N. Lincoln Ave.\n\n \n\nAll workshops are first come\, first serve.  \n\n \n\n***Please remember to bring a copy of your most recent property tax bill\, your 2010 Federal 1040 Income Tax form\, a valid state-issued ID\, as well as a copy of your 2010 senior exemption applications (when applicable)***\n\n \n\nFor more information\, please call Bridget at\n\n773-871-4000 or email her at Bridget@fritchey.com
X-ALT-DESC;FMTTYPE=text/html:<strong><span style="color:maroon\;"><span style="font-family:georgia\,serif\;"><span style="font-size:22.0pt\;">Senior Exemption Workshops<br />\n<span style="font-size:16px\;">Sponsored by Cook County Commissioner John Fritchey&nbsp\;</span> </span></span></span></strong><br />\n&nbsp\;<br />\n<span style="color:#003399\;"><span style="font-family:georgia\,serif\;"><span style="font-size:14.0pt\;">To make it easier for my constituents to get help with their senior exemption applications\, I will be holding a series of workshops around the 12th District to give seniors the one-on-one help they need. &nbsp\;A big thanks to <strong><span style="font-family:georgia\,serif\;">Congressman Mike Quigley</span></strong></span> and <strong><span style="font-family:georgia\,serif\;">47th Ward Alderman Ameya Pawar</span></strong></span> for agreeing to host us as we work to assist people in getting the tax exemptions they&#39\;re entitled to!&nbsp\;</span><br />\n&nbsp\;<br />\n<span style="color:#003399\;"><span style="font-family:georgia\,serif\;"><span style="font-size:14.0pt\;">At these workshops\, members of my staff can assist you in completing the required applications. &nbsp\;We will then notarize the forms on-site and turn them into the Assessor&#39\;s office for processing.&nbsp\;<em><span style="font-family:georgia\,serif\;">And that&#39\;s it - your exemption filing will be complete!</span></em></span></span></span><br />\n&nbsp\;<br />\n<span style="color:#003399\;"><span style="font-family:georgia\,serif\;"><span style="font-size:14.0pt\;">Workshop details are as follows:</span></span></span><br />\n&nbsp\;<br />\n<u><span style="color:#003399\;"><span style="font-family:georgia\,serif\;"><span style="font-size:14.0pt\;">My District Office</span></span></span></u><br />\n<span style="color:#003399\;"><span style="font-family:georgia\,serif\;"><span style="font-size:14.0pt\;">When: </span></span></span><strong><span style="color:maroon\;"><span style="font-family:georgia\,serif\;"><span style="font-size:14.0pt\;">Tuesday\, March 6\, 10am-1pm</span></span></span></strong><br />\n<span style="color:#003399\;"><span style="font-family:georgia\,serif\;"><span style="font-size:14.0pt\;">Where: </span></span></span><strong><span style="color:maroon\;"><span style="font-family:georgia\,serif\;"><span style="font-size:14.0pt\;">2539 N. Southport Ave.</span></span></span></strong><br />\n&nbsp\;<br />\n<u><span style="color:#003399\;"><span style="font-family:georgia\,serif\;"><span style="font-size:14.0pt\;">Congressman Mike Quigley&#39\;s District Office</span></span></span></u><br />\n<span style="color:#003399\;"><span style="font-family:georgia\,serif\;"><span style="font-size:14.0pt\;">When: </span></span></span><strong><span style="color:maroon\;"><span style="font-family:georgia\,serif\;"><span style="font-size:14.0pt\;">Friday\, March 9\, 1-4pm</span></span></span></strong><br />\n<span style="color:#003399\;"><span style="font-family:georgia\,serif\;"><span style="font-size:14.0pt\;">Where: </span></span></span><strong><span style="color:maroon\;"><span style="font-family:georgia\,serif\;"><span style="font-size:14.0pt\;">3742 W. Irving Park</span></span></span></strong><br />\n&nbsp\;<br />\n<u><span style="color:#003399\;"><span style="font-family:georgia\,serif\;"><span style="font-size:14.5pt\;">47th Ward Alderman Pawar&#39\;s Office</span></span></span></u><br />\n<span style="color:#003399\;"><span style="font-family:georgia\,serif\;"><span style="font-size:14.0pt\;">When: </span></span></span><strong><span style="color:maroon\;"><span style="font-family:georgia\,serif\;"><span style="font-size:14.0pt\;">Wednesday\, March 14\, 10am-1pm</span></span></span></strong><br />\n<span style="color:#003399\;"><span style="font-family:georgia\,serif\;"><span style="font-size:14.0pt\;">Where: </span></span></span><strong><span style="color:maroon\;"><span style="font-family:georgia\,serif\;"><span style="font-size:14.0pt\;">4243 N. Lincoln Ave.</span></span></span></strong><br />\n&nbsp\;<br />\n<em><span style="color:#003399\;"><span style="font-family:georgia\,serif\;"><span style="font-size:14.0pt\;">All workshops are first come\, first serve. &nbsp\;</span></span></span></em><br />\n&nbsp\;<br />\n<span style="color:red\;"><span style="font-family:georgia\,serif\;"><span style="font-size:14.0pt\;">***Please remember to bring a copy of your most recent property tax bill\, your 2010 Federal 1040 Income Tax form\, a valid state-issued ID\, as well as a copy of your 2010 senior exemption applications (when applicable)***</span></span></span><br />\n&nbsp\;<br />\n<span style="color:#000090\;"><span style="font-family:georgia\,serif\;"><span style="font-size:14.5pt\;">For more information\, please call Bridget at</span></span></span><br />\n<span style="color:#000090\;"><span style="font-family:georgia\,serif\;"><span style="font-size:14.5pt\;">773-871-4000 or email her at <a href="mailto:Bridget@Fritchey.com" shape="rect" target="_blank"><strong><span style="color:#000090\;">Bridget@fritchey.com</span></strong></a></span></span></span>
LOCATION:47th Ward Alderman Ameya Pawar's Office 4243 N. Lincoln Avenue
UID:e.697.2489
SEQUENCE:3
DTSTAMP:20260420T012838Z
URL:http://lincolnsquareravenswood.smartcms.site/events/details/senior-exemption-workshops-2489
END:VEVENT

END:VCALENDAR
