BEGIN:VCALENDAR
VERSION:2.0
PRODID:-//ChamberMaster//Event Calendar 2.0//EN
METHOD:PUBLISH
X-PUBLISHED-TTL:P3D
REFRESH-INTERVAL:P3D
CALSCALE:GREGORIAN
BEGIN:VEVENT
DTSTART:20100718T233000Z
DTEND:20100719T010000Z
X-MICROSOFT-CDO-ALLDAYEVENT:FALSE
SUMMARY:Shrek the Musical benefitting Lawrence Hall
DESCRIPTION:Shrek the Musical\, based on the Oscar®-winning DreamWorks film that started it all\, brings the hilarious story of everyone?s favorite ogre to life the stage. Lawrence Hall has reserved tickets for one show only. A portion of the sales of these tickets will support LHYS programs.
X-ALT-DESC;FMTTYPE=text/html:Shrek the Musical\, based on the Oscar®-winning DreamWorks film that started it all\, brings the hilarious story of everyone?s favorite ogre to life the stage. Lawrence Hall has reserved tickets for one show only. A portion of the sales of these tickets will support LHYS programs.\n<br>\n<br>\n<br>
LOCATION:Cadillac Palace Theatre 151 West Randolph Street Chicago IL
UID:e.697.276
SEQUENCE:3
DTSTAMP:20260421T080723Z
URL:http://lincolnsquareravenswood.smartcms.site/events/details/shrek-the-musical-benefitting-lawrence-hall-276
END:VEVENT

END:VCALENDAR
