BEGIN:VCALENDAR
VERSION:2.0
PRODID:-//ChamberMaster//Event Calendar 2.0//EN
METHOD:PUBLISH
X-PUBLISHED-TTL:P3D
REFRESH-INTERVAL:P3D
CALSCALE:GREGORIAN
BEGIN:VEVENT
DTSTART:20111223T000000Z
DTEND:20111223T020000Z
X-MICROSOFT-CDO-ALLDAYEVENT:FALSE
SUMMARY:Sip & Stroll at Pro-Holistic Institute
DESCRIPTION:SIP AND STROLL\n\n	Thursday\, December 22nd\n\n	6:00pm   8:00pm\n\n	\n\n	Santa is coming in for his check up. Come and see Santa!\n\n	\n\n	Win a FREE Massage\n\n	Win a $1500 Wellness Program\n\n	\n\n	Deals For The Day!\n\n	20% off Stress & Adrenal Support\n\n	Book a 1hr massage and consult for $75\n\n	Book 2 Acupuncture sessions for the price of one
X-ALT-DESC;FMTTYPE=text/html:<p style="text-align: center\; ">\n	SIP AND STROLL<br />\n	Thursday\, December 22nd<br />\n	6:00pm &ndash\; 8:00pm<br />\n	<br />\n	<strong><span style="background-color:#ffa07a\;">Santa is coming in for his check up. Come and see Santa!</span></strong><br />\n	<br />\n	Win a FREE Massage<br />\n	Win a $1500 Wellness Program<br />\n	<br />\n	Deals For The Day!<br />\n	20% off Stress &amp\; Adrenal Support<br />\n	Book a 1hr massage and consult for $75<br />\n	Book 2 Acupuncture sessions for the price of one</p>\n
LOCATION:4750 N. Rockwell
UID:e.697.2448
SEQUENCE:3
DTSTAMP:20260420T045200Z
URL:http://lincolnsquareravenswood.smartcms.site/events/details/sip-stroll-at-pro-holistic-institute-2448
END:VEVENT

END:VCALENDAR
