BEGIN:VCALENDAR
VERSION:2.0
PRODID:-//ChamberMaster//Event Calendar 2.0//EN
METHOD:PUBLISH
X-PUBLISHED-TTL:P3D
REFRESH-INTERVAL:P3D
CALSCALE:GREGORIAN
BEGIN:VEVENT
DTSTART:20100731T150000Z
DTEND:20100731T223000Z
X-MICROSOFT-CDO-ALLDAYEVENT:FALSE
SUMMARY:Sixth Annual Lincoln Square Garden Walk
DESCRIPTION:More than 20 gardens and 15 environmental groups plan to participate in this ecologically-minded neighborhood's event. Butterfly gardens\, children's play areas\, waterfalls\, decks\, patios\, terraces\, composting and abundant decorative vegetable gardens make the Lincoln Square Garden Walk a showcase for the resourcefulness of gardeners working in small city lots. Last year's walk featured the variety the walk is known for with some wonderful new additions. One new Mayor's landscape award winner features mature perennials and small trees\, one garden features banks of showy lilies. Another garden uses individual beds\, organized in a hardscape\, like a patchwork. There were native plant gardens\, a community vegetable garden with sustainable farming of small fruits\, a whimsical Victorian idyll\, the sky-high terrace of the Dank Haus and a expansive shade that makes use of vertical space. This year features many new gardens and delightful\, innovative surprises. The Lincoln Square Garden Walk and Green Fair will be held all day on Saturday July 31st\, from 10-5:30pm at Giddings Plaza at 4731 N. Lincoln Ave.\, Chicago. There is no charge for the Green Fair. The Garden Walk is $10 and all profits go to benefit the Lincoln Square Foundation\, the Chamber's not-for-profit greening organization.
X-ALT-DESC;FMTTYPE=text/html:<div><div style="margin: 0in 0in 0pt"><span style="color: black\; font-size: 18pt"><span style="font-size: small"><div style="margin: 0in 0in 0pt"><div style="margin: 0in 0in 0pt">&nbsp\;</div></div></span></span></div><div style="margin: 0in 0in 0pt"><span style="color: black\; font-size: 18pt"><span style="font-size: small">More than 20 gardens and 15 environmental groups plan to participate in this ecologically-minded neighborhood&rsquo\;s event.&nbsp\;Butterfly gardens\, children&rsquo\;s play areas\, waterfalls\, decks\, patios\, terraces\, composting and abundant decorative vegetable gardens make the Lincoln Square Garden Walk a showcase for the resourcefulness of gardeners working in small city lots.</span></span></div><div style="margin: 0in 0in 0pt">&nbsp\;</div><div style="margin: 0in 0in 0pt"><span style="color: black\; font-size: 18pt"><span style="font-size: small"><div style="margin: 0in 0in 0pt"><span style="color: black\; font-weight: normal">Last year&rsquo\;s walk featured the variety the walk is known for with some wonderful new additions.&nbsp\;One new Mayor&rsquo\;s landscape award winner features mature perennials and small trees\, one garden features banks of&nbsp\;showy lilies.&nbsp\;Another garden uses individual beds\, organized in a hardscape\, like a patchwork.&nbsp\;There were native plant gardens\, a community vegetable garden with sustainable farming of small fruits\, a whimsical Victorian idyll\, the sky-high terrace of the Dank Haus and a expansive shade that makes use of vertical space.&nbsp\;This year features many new gardens and delightful\, innovative surprises.</span></div><div style="margin: 0in 0in 0pt">&nbsp\;</div><div style="margin: 0in 0in 0pt"><span style="color: black\; font-weight: normal"><div style="margin: 0in 0in 0pt"><span style="color: black">The Lincoln Square Garden Walk and Green Fair will be held all day on Saturday July 31st\, from 10-5:30pm at Giddings Plaza at 4731 N. Lincoln Ave.\, Chicago.&nbsp\;There is no charge for the Green Fair.&nbsp\;The Garden Walk is $10 and all profits go to benefit the Lincoln Square Foundation\, the Chamber&rsquo\;s not-for-profit greening organization.</span></div><div style="margin: 0in 0in 0pt">&nbsp\;</div><div style="margin: 0in 0in 0pt">&nbsp\;</div></span></div></span></span></div></div>
LOCATION:Giddings Plaza (4731 N Lincoln Ave)
UID:e.697.560
SEQUENCE:3
DTSTAMP:20260421T080719Z
URL:http://lincolnsquareravenswood.smartcms.site/events/details/sixth-annual-lincoln-square-garden-walk-560
END:VEVENT

END:VCALENDAR
