BEGIN:VCALENDAR
VERSION:2.0
PRODID:-//ChamberMaster//Event Calendar 2.0//EN
METHOD:PUBLISH
X-PUBLISHED-TTL:P3D
REFRESH-INTERVAL:P3D
CALSCALE:GREGORIAN
BEGIN:VEVENT
DTSTART;VALUE=DATE:20120621
DTEND;VALUE=DATE:20120716
TRANSP:TRANSPARENT
X-MICROSOFT-CDO-ALLDAYEVENT:TRUE
SUMMARY:SOVIET STATEMENTS: Propaganda Posters from the 70's Era of Rule
DESCRIPTION:SOVIET STATEMENTS\n\nPropaganda Posters from the 70's Era of Rule\n\nStrong Images and Stronger Politics\n\n\n\nOpening Reception Thursday 6/21\, 4-9p and Friday 6/22\, 6-9p\n\nExhibition and Sale through Saturday July 15.
X-ALT-DESC;FMTTYPE=text/html:<span style="font-size:24px\;"><strong>SOVIET STATEMENTS</strong></span><br />\n<span style="font-size:18px\;"><strong>Propaganda Posters from the 70&#39\;s Era of Rule</strong></span><br />\n<span style="font-size:14px\;"><strong><em>Strong Images and Stronger Politics</em></strong></span><br />\n<br />\n<strong>Opening Reception Thursday 6/21\, 4-9p and Friday 6/22\, 6-9p<br />\nExhibition and Sale through Saturday July 15.</strong>
LOCATION:4757 N Lincoln Avenue
UID:e.697.3567
SEQUENCE:3
DTSTAMP:20260419T183435Z
URL:http://lincolnsquareravenswood.smartcms.site/events/details/soviet-statements-propaganda-posters-from-the-70-s-era-of-rule-3567
END:VEVENT

END:VCALENDAR
