BEGIN:VCALENDAR
VERSION:2.0
PRODID:-//ChamberMaster//Event Calendar 2.0//EN
METHOD:PUBLISH
X-PUBLISHED-TTL:P3D
REFRESH-INTERVAL:P3D
CALSCALE:GREGORIAN
BEGIN:VEVENT
DTSTART:20101002T230500Z
DTEND:20101003T030500Z
X-MICROSOFT-CDO-ALLDAYEVENT:FALSE
SUMMARY:Soxtoberfest
DESCRIPTION:Guten Tag! Join the White Sox and SC DANK for our Oktoberfest celebration with a night of music and dance to celebrate German Heritage at U.S. Cellular Field!\n\n\n\nGet your $18 tickets through DANK - I feel a party bus coming on!
X-ALT-DESC;FMTTYPE=text/html:Guten Tag! Join the White Sox and SC DANK for our Oktoberfest celebration with a night of music and dance to celebrate German Heritage at U.S. Cellular Field!\n<br>\n<br>Get your $18 tickets through DANK - I feel a party bus coming on!
LOCATION:US Cellular Field
UID:e.697.594
SEQUENCE:3
DTSTAMP:20260421T031238Z
URL:http://lincolnsquareravenswood.smartcms.site/events/details/soxtoberfest-594
END:VEVENT

END:VCALENDAR
