BEGIN:VCALENDAR
VERSION:2.0
PRODID:-//ChamberMaster//Event Calendar 2.0//EN
METHOD:PUBLISH
X-PUBLISHED-TTL:P3D
REFRESH-INTERVAL:P3D
CALSCALE:GREGORIAN
BEGIN:VEVENT
DTSTART:20110212T013000Z
DTEND:20110212T043000Z
X-MICROSOFT-CDO-ALLDAYEVENT:FALSE
SUMMARY:SPORTSCLUB DANK
DESCRIPTION:Join SportsClub DANK every 2nd Friday at 7:30 pm for a few matches on screen and off!\n\n\n\nThere will be table tennis\, fussball\, bags - matches on the projection screen.\n\n\n\nCash bar Pretzels $2 Landjager $3\n\n\n\nFREE parking at MB Financial Bank at Western and Gunnison.
X-ALT-DESC;FMTTYPE=text/html:Join SportsClub DANK every 2nd Friday at 7:30 pm for a few matches on screen and off!\n<br>\n<br>There will be table tennis\, fussball\, bags - matches on the projection screen.\n<br>\n<br>Cash bar Pretzels $2 Landjager $3\n<br>\n<br>FREE parking at MB Financial Bank at Western and Gunnison.\n<br>
LOCATION:4740 n Western Ave Chicago IL 60625
UID:e.697.719
SEQUENCE:3
DTSTAMP:20260420T204345Z
URL:http://lincolnsquareravenswood.smartcms.site/events/details/sportsclub-dank-719
END:VEVENT

END:VCALENDAR
