BEGIN:VCALENDAR
VERSION:2.0
PRODID:-//ChamberMaster//Event Calendar 2.0//EN
METHOD:PUBLISH
X-PUBLISHED-TTL:P3D
REFRESH-INTERVAL:P3D
CALSCALE:GREGORIAN
BEGIN:VEVENT
DTSTART:20120329T233000Z
DTEND:20120330T023000Z
X-MICROSOFT-CDO-ALLDAYEVENT:FALSE
SUMMARY:Spring Wine Stroll
DESCRIPTION:Please join the Lincoln Square Chamber of Commerce as we transform the streets of the Lincoln Square Community into our very own "Wine Country." The Annual Spring Wine Stroll is one of the most popular events in the neighborhood!\n\n\n\nWhile meandering through one of our 3 business district you can expect to taste some great samples of seasonal wines\, paired with delicious hors d'oeuvres at several different Lincoln Square establishments. These highly anticipated evenings of sipping refreshing wines are a great way to get more familiar with the businesses of Lincoln Square\, while spending quality time with family and friends!\n\n\n\nDetails\n\nDate: Thursday\, March 29\, 2012\n\nTime: 6:30pm - 9:30pm\n\nLocation: Various Lincoln Square Area Businesses\n\nPrice: $40 for one route\, $60 for All routes\n\n($50 at door\, based on availability)\n\nPurchase Tickets on Brown Paper Tickets\n\n\n\nThe Rockwell Route:\n\nBeans & Bagels\n\nBrew Camp\n\njookie\, a portrait boutique\n\nKoentopp Guitars\n\nPro-Holistic Institute\n\nProvenance Food & Wine\n\nThe Red Lion Lincoln Square\n\nRuff Haus Pets\n\n\n\nThe Damen Route:\n\nAmy's Candy Bar\n\nAroy Thai\n\nDuet Salon\n\nEye See Ravenswood\n\nFountainhead\n\nHoard Antiques\n\nOrange Beautiful\n\nThe Perfect Cup\n\nRavensgoods\n\n\n\nThe Lincoln Route - A:\n\nEnjoy\, an urban general store\n\nGene's Sausage Shop\n\nThe Grafton\n\nGranville Picture Framing at LSQ\n\nPaciugo Gelato\n\nProvenance Food and Wine\n\nTrattoria Trullo\n\n\n\nThe Lincoln Route - B:\n\nBistro Campagne\n\nOld Town School of Folk Music - Cafe\n\nPizza D.O.C.\n\nPlanet Access Company Store\n\nProvenance Food and Wine\n\nSacred Art\n\nSteve Quick Jeweler\n\n\n\n*Venues Subject to Change.
X-ALT-DESC;FMTTYPE=text/html:Please join the Lincoln Square Chamber of Commerce as we transform the streets of the Lincoln Square Community into our very own &quot\;Wine Country.&quot\; The Annual Spring Wine Stroll is one of the most popular events in the neighborhood!<br />\n<br />\nWhile meandering through one of our 3 business district you can expect to taste some great samples of seasonal wines\, paired with delicious hors d&#39\;oeuvres at several different Lincoln Square establishments. These highly anticipated evenings of sipping refreshing wines are a great way to get more familiar with the businesses of Lincoln Square\, while spending quality time with family and friends!<br />\n<br />\n<u><strong>Details</strong></u><br />\n<strong>Date:</strong> Thursday\, March 29\, 2012<br />\n<strong>Time:</strong> 6:30pm - 9:30pm<br />\n<strong>Location:</strong> Various Lincoln Square Area Businesses<br />\n<strong>Price:</strong> $40 for one route\, $60 for All routes<br />\n<em>($50 at door\, based on availability)</em><a href="https://www.brownpapertickets.com/event/233813"><br />\nPurchase Tickets on Brown Paper Tickets</a><br />\n<br />\n<strong>The Rockwell Route:</strong><br />\nBeans &amp\; Bagels<br />\nBrew Camp<br />\njookie\, a portrait boutique<br />\nKoentopp Guitars<br />\nPro-Holistic Institute<br />\nProvenance Food &amp\; Wine<br />\nThe Red Lion Lincoln Square<br />\nRuff Haus Pets<br />\n<br />\n<strong>The Damen Route:</strong><br />\nAmy&#39\;s Candy Bar<br />\nAroy Thai<br />\nDuet Salon<br />\nEye See Ravenswood<br />\nFountainhead<br />\nHoard Antiques<br />\nOrange Beautiful<br />\nThe Perfect Cup<br />\nRavensgoods<br />\n<br />\n<strong>The Lincoln Route - A:</strong><br />\nEnjoy\, an urban general store<br />\nGene&#39\;s Sausage Shop<br />\nThe Grafton<br />\nGranville Picture Framing at LSQ<br />\nPaciugo Gelato<br />\nProvenance Food and Wine<br />\nTrattoria Trullo<br />\n<br />\n<strong>The Lincoln Route - B:</strong><br />\nBistro Campagne<br />\nOld Town School of Folk Music - Cafe<br />\nPizza D.O.C.<br />\nPlanet Access Company Store<br />\nProvenance Food and Wine<br />\nSacred Art<br />\nSteve Quick Jeweler<br />\n<br />\n<em>*Venues Subject to Change.</em>
LOCATION:Damen Avenue Lincoln Avenue Rockwell Street
UID:e.697.2490
SEQUENCE:3
DTSTAMP:20260419T234045Z
URL:http://lincolnsquareravenswood.smartcms.site/events/details/spring-wine-stroll-2490
END:VEVENT

END:VCALENDAR
