BEGIN:VCALENDAR
VERSION:2.0
PRODID:-//ChamberMaster//Event Calendar 2.0//EN
METHOD:PUBLISH
X-PUBLISHED-TTL:P3D
REFRESH-INTERVAL:P3D
CALSCALE:GREGORIAN
BEGIN:VEVENT
DTSTART:20110524T000000Z
DTEND:20110524T020000Z
X-MICROSOFT-CDO-ALLDAYEVENT:FALSE
SUMMARY:Square Kegs - Beer & Food Pairing
DESCRIPTION:The Lincoln Square Chamber of Commerce brings local food and beer together at Prix Fixe.  On consecutive Mondays in May\, Prix Fixe will host Square Kegs for two nights of home brewed beer and local cuisine.  Each dinner will feature 3 courses inspired by and prepared with 3 home brewed beers.  Featured beers will include a Belgian Wit\, Bourbon Porter\, and a Dry Hopped Pale Ale.\n\n	\n\n	EVENT DATES: Monday\, May 16 and May 23\n\n	TIME: Registration starts @ 6:30pm w/ dinner starting @ 7:00pm\n\n	TICKET PRICE: $50.00 (Gratuity Not Included)\n\n	\n\n	Tickets go on sale Wednesday\, May 4\, 2011 @10am!\n\n	Seating limited to 30 per night.\n\n	Visit Brown Paper Tickets to register.
X-ALT-DESC;FMTTYPE=text/html:<p>\n	The Lincoln Square Chamber of Commerce brings local food and beer together at <a href="http://www.dineprixfixe.com/PRIX_FIXE/OUR_PHILOSOPHY.html">Prix Fixe</a>.&nbsp\; On consecutive Mondays in May\, Prix Fixe will host Square Kegs for two nights of home brewed beer and local cuisine.&nbsp\; Each dinner will feature 3 courses inspired by and prepared with 3 home brewed beers.&nbsp\; Featured beers will include a Belgian Wit\, Bourbon Porter\, and a Dry Hopped Pale Ale.<br />\n	<br />\n	<em>EVENT DATES:</em> Monday\, May 16 and May 23<br />\n	<em>TIME:</em> Registration starts @ 6:30pm w/ dinner starting @ 7:00pm<br />\n	<em>TICKET PRICE:</em> $50.00 (Gratuity Not Included)<br />\n	<br />\n	<strong>Tickets go on sale Wednesday\, May 4\, 2011 @10am!<br />\n	Seating limited to 30 per night.<br />\n	Visit <a href="http://www.brownpapertickets.com/event/175572">Brown Paper Tickets</a> to register.</strong></p>\n
LOCATION:Prix Fixe 4835 N. WESTERN AVE CHICAGO\, IL 60625 773.681.0651
UID:e.697.872
SEQUENCE:3
DTSTAMP:20260420T160905Z
URL:http://lincolnsquareravenswood.smartcms.site/events/details/square-kegs-beer-food-pairing-872
END:VEVENT

END:VCALENDAR
