BEGIN:VCALENDAR
VERSION:2.0
PRODID:-//ChamberMaster//Event Calendar 2.0//EN
METHOD:PUBLISH
X-PUBLISHED-TTL:P3D
REFRESH-INTERVAL:P3D
CALSCALE:GREGORIAN
BEGIN:VEVENT
DTSTART:20110729T000000Z
DTEND:20110729T020000Z
X-MICROSOFT-CDO-ALLDAYEVENT:FALSE
SUMMARY:Square Kegs Home Brew Club Meet-Up
DESCRIPTION:Save the Date!\n\n	\n\n	Join the Lincoln Square Chamber of Commerce Square Kegs Home Brew Club for its monthly meet-up! This event is open to the public and attendees are highly encouraged to bring their own home-brewed beer. Don't have your own home brewed beer yet? That's okay! You are still welcome to join in on the activities\, just bring something cold!\n\n	\n\n	Each meet-up will have a brief\, informal discussion on a topic related to brewing your own brew at home\, followed by a night of sharing home brewed beer. During meetings we will also discuss the future direction of the club\, potential upcoming events\, and more!\n\n	\n\n	Don't miss out! RSVP today!\n\n	\n\n	July Meeting Details\n\n	\n\n	Square Kegs Home Brew Club will be at Ricochet's this month for our third meet up. We will continue our discussion on fermentation. This month we will cover making a yeast starter and pitching the proper amount of yeast. All are encouraged to participate and if you have any good tips please come prepared to share. Speaking of sharing\, feel free to bring along some home brew. No home brew? No worries\, Ricochet's has a nice tap list.! We will get started at 7pm. See you there!
X-ALT-DESC;FMTTYPE=text/html:<p>\n	<span style="font-size: 14px"><span style="font-family: arial"><span style="color: #222222"><strong>Save the Date!</strong></span><br />\n	<br />\n	Join the Lincoln Square Chamber of Commerce Square Kegs Home Brew Club for its monthly meet-up! This event is open to the public and attendees are highly encouraged to bring their own home-brewed beer. Don&#39\;t have your own home brewed beer yet? That&#39\;s okay! You are still welcome to join in on the activities\, just bring something cold!<br />\n	<br />\n	Each meet-up will have a brief\, informal discussion on a topic related to brewing your own brew at home\, followed by a night of sharing home brewed beer. During meetings we will also discuss the future direction of the club\, potential upcoming events\, and more!<br />\n	<br />\n	Don&#39\;t miss out! RSVP today!<br />\n	<br />\n	<strong><u><span style="color: #222222">July&nbsp\;Meeting Details</span></u></strong><br />\n	<br />\n	Square Kegs Home Brew Club will be at Ricochet&#39\;s this month for our third meet up. We will continue our discussion on fermentation. This month we will cover making a yeast starter and pitching the proper amount of yeast. All are encouraged to participate and if you have any good tips please come prepared to share. Speaking of sharing\, feel free to bring along some home brew. No home brew? No worries\, Ricochet&#39\;s has a nice tap list.! We will get started at 7pm. See you there!</span></span></p>\n
LOCATION:Ricochet's 4644 North Lincoln Avenue
UID:e.697.1309
SEQUENCE:3
DTSTAMP:20260420T125138Z
URL:http://lincolnsquareravenswood.smartcms.site/events/details/square-kegs-home-brew-club-meet-up-1309
END:VEVENT

END:VCALENDAR
