BEGIN:VCALENDAR
VERSION:2.0
PRODID:-//ChamberMaster//Event Calendar 2.0//EN
METHOD:PUBLISH
X-PUBLISHED-TTL:P3D
REFRESH-INTERVAL:P3D
CALSCALE:GREGORIAN
BEGIN:VEVENT
DTSTART:20111028T000000Z
DTEND:20111028T020000Z
X-MICROSOFT-CDO-ALLDAYEVENT:FALSE
SUMMARY:Square Kegs Home Brew Club Meet-Up
DESCRIPTION:Save the Date!\n\n	\n\n	Join the Lincoln Square Chamber of Commerce Square Kegs Home Brew Club for its monthly meet-up! This event is open to the public and attendees are highly encouraged to bring their own home-brewed beer. Don't have your own home brewed beer yet? That's okay! You are still welcome to join in on the activities.\n\n	\n\n	Each meet-up will have a brief\, informal discussion on a topic related to brewing your own brew at home\, followed by a night of sharing home brewed beer. During meetings we will also discuss the future direction of the club\, potential upcoming events\, and more!\n\n	\n\n	Don't miss out! RSVP today!\n\n	\n\n	October Meeting Details\n\n	This month the Meet-Up will be held at Fountainhead.\n\n	\n\n	SQUARE KEGS NEWSLETTER\n\n	Sign up for the Square Kegs Newsletter to receive the latest information about meetings and upcoming events.  Just enter your email address in the right hand sind of your browser and click Sign Up.  Then choose to be added to the Sqaure Kegs Newsletter.  It's that easy!
X-ALT-DESC;FMTTYPE=text/html:<p>\n	<span style="font-size: 14px"><span style="font-family: arial"><span style="color: #222222"><strong>Save the Date!</strong></span><br />\n	<br />\n	Join the Lincoln Square Chamber of Commerce Square Kegs Home Brew Club for its monthly meet-up! This event is open to the public and attendees are highly encouraged to bring their own home-brewed beer. Don&#39\;t have your own home brewed beer yet? That&#39\;s okay! You are still welcome to join in on the activities.<br />\n	<br />\n	Each meet-up will have a brief\, informal discussion on a topic related to brewing your own brew at home\, followed by a night of sharing home brewed beer. During meetings we will also discuss the future direction of the club\, potential upcoming events\, and more!<br />\n	<br />\n	Don&#39\;t miss out! RSVP today!<br />\n	<br />\n	<strong><u><span style="color: #222222">October&nbsp\;Meeting Details</span></u></strong><br />\n	This month the Meet-Up will be held at <a href="http://fountainheadchicago.com">Fountainhead</a>.</span></span><br />\n	<br />\n	<span style="font-size: 14px"><strong><u><font color="#000000" face="Arial">SQUARE KEGS NEWSLETTER</font></u></strong><br />\n	<font color="#000000" face="Arial">Sign up for the Square Kegs Newsletter to receive the latest information about meetings and upcoming events.&nbsp\; Just enter your email address in the right hand sind of your browser and click Sign Up.&nbsp\; Then choose to be added to the Sqaure Kegs Newsletter.&nbsp\; It&#39\;s that easy!</font></span></p>\n
LOCATION:Fountainhead 1970 W. Montrose Avenue
UID:e.697.2179
SEQUENCE:3
DTSTAMP:20260420T081828Z
URL:http://lincolnsquareravenswood.smartcms.site/events/details/square-kegs-home-brew-club-meet-up-2179
END:VEVENT

END:VCALENDAR
