BEGIN:VCALENDAR
VERSION:2.0
PRODID:-//ChamberMaster//Event Calendar 2.0//EN
METHOD:PUBLISH
X-PUBLISHED-TTL:P3D
REFRESH-INTERVAL:P3D
CALSCALE:GREGORIAN
BEGIN:VEVENT
DTSTART;VALUE=DATE:20120720
DTEND;VALUE=DATE:20120723
TRANSP:TRANSPARENT
X-MICROSOFT-CDO-ALLDAYEVENT:TRUE
SUMMARY:Square Roots
DESCRIPTION:The Old Town School of Folk Music and the Lincoln Square Chamber of Commerce present "Square Roots\," the first ever craft beer and music experience in Chicago's Lincoln Square.
X-ALT-DESC;FMTTYPE=text/html:<div style="color: gray">\n	<p>\n		The Old Town School of Folk Music and the Lincoln Square Chamber of Commerce present &ldquo\;Square Roots\,&rdquo\; the first ever craft beer and music experience in Chicago&rsquo\;s Lincoln Square.<span _fck_bookmark="1" style="display: none">&nbsp\;</span></p>\n</div>\n
LOCATION:The festival will take place on Lincoln Avenue\, between Montrose and Wilson.
UID:e.697.2590
SEQUENCE:3
DTSTAMP:20260419T183203Z
URL:http://lincolnsquareravenswood.smartcms.site/events/details/square-roots-2590
END:VEVENT

END:VCALENDAR
