BEGIN:VCALENDAR
VERSION:2.0
PRODID:-//ChamberMaster//Event Calendar 2.0//EN
METHOD:PUBLISH
X-PUBLISHED-TTL:P3D
REFRESH-INTERVAL:P3D
CALSCALE:GREGORIAN
BEGIN:VEVENT
DTSTART:20110220T010000Z
DTEND:20110220T040000Z
X-MICROSOFT-CDO-ALLDAYEVENT:FALSE
SUMMARY:St Hubertus Hirschbraten Venison Dinner
DESCRIPTION:German foodies unite! St Hubertus venison dinner is Feb 19 2011. Reserve today - you will not be disappointed.\n\n\n\nVenison goulasch\, red cabbage spaetzle served family style by dirndl clad hostesses while the Fanfaren trumpets away. A giant bear on stage and animal heads abound.
X-ALT-DESC;FMTTYPE=text/html:German foodies unite! St Hubertus venison dinner is Feb 19 2011. Reserve today - you will not be disappointed.\n<br>\n<br>Venison goulasch\, red cabbage spaetzle served family style by dirndl clad hostesses while the Fanfaren trumpets away. A giant bear on stage and animal heads abound.
LOCATION:4740 N Western Ave Chicago IL 60625
UID:e.697.729
SEQUENCE:3
DTSTAMP:20260420T204335Z
URL:http://lincolnsquareravenswood.smartcms.site/events/details/st-hubertus-hirschbraten-venison-dinner-729
END:VEVENT

END:VCALENDAR
