BEGIN:VCALENDAR
VERSION:2.0
PRODID:-//ChamberMaster//Event Calendar 2.0//EN
METHOD:PUBLISH
X-PUBLISHED-TTL:P3D
REFRESH-INTERVAL:P3D
CALSCALE:GREGORIAN
BEGIN:VEVENT
DTSTART:20110219T013000Z
DTEND:20110219T043000Z
X-MICROSOFT-CDO-ALLDAYEVENT:FALSE
SUMMARY:STAMMTISCH - OPEN HOUSE
DESCRIPTION:Great German food\, beer and Gemütlichkeit. Come be a regular at DANK Haus!\n\n\n\nFREE parking at MB Financial Bank at Western and Gunnison.
X-ALT-DESC;FMTTYPE=text/html:Great German food\, beer and Gemütlichkeit. Come be a regular at DANK Haus!\n<br>\n<br>FREE parking at MB Financial Bank at Western and Gunnison.\n<br>
LOCATION:4740 N Western Ave
UID:e.697.723
SEQUENCE:3
DTSTAMP:20260420T204336Z
URL:http://lincolnsquareravenswood.smartcms.site/events/details/stammtisch-open-house-723
END:VEVENT

END:VCALENDAR
