BEGIN:VCALENDAR
VERSION:2.0
PRODID:-//ChamberMaster//Event Calendar 2.0//EN
METHOD:PUBLISH
X-PUBLISHED-TTL:P3D
REFRESH-INTERVAL:P3D
CALSCALE:GREGORIAN
BEGIN:VEVENT
DTSTART:20110917T003000Z
DTEND:20110917T043000Z
X-MICROSOFT-CDO-ALLDAYEVENT:FALSE
SUMMARY:STAMMTISCH - OPEN HOUSE
DESCRIPTION:Stammtisch is your official Lincoln Square Apple Fest pre party headquarters\n\nServing Possmann's Apfelwein and Chef Martin's Apple Sausages\, nothing beats an fine autumn evening in the Skyline Lounge & Terrasse
X-ALT-DESC;FMTTYPE=text/html:Stammtisch is your official Lincoln Square <a href="http://www.lincolnsquare.org/pages/AppleFest/" target="_blank">Apple Fest</a> pre party headquarters<br />\nServing <a href="http://www.possmann.com/" target="_blank">Possmann</a>&#39\;s Apfelwein and <a href="http://alpinebrandsausages.com/" target="_blank">Chef Martin</a>&#39\;s Apple Sausages\, nothing beats an fine autumn evening in the Skyline Lounge &amp\; Terrasse
LOCATION:DANK Haus German American Cultural Center 4740 N Western Ave
UID:e.697.833
SEQUENCE:3
DTSTAMP:20260420T093926Z
URL:http://lincolnsquareravenswood.smartcms.site/events/details/stammtisch-open-house-833
END:VEVENT

END:VCALENDAR
