BEGIN:VCALENDAR
VERSION:2.0
PRODID:-//ChamberMaster//Event Calendar 2.0//EN
METHOD:PUBLISH
X-PUBLISHED-TTL:P3D
REFRESH-INTERVAL:P3D
CALSCALE:GREGORIAN
BEGIN:VEVENT
DTSTART:20111022T003000Z
DTEND:20111022T045500Z
X-MICROSOFT-CDO-ALLDAYEVENT:FALSE
SUMMARY:STAMMTISCH - Oktoberfest
DESCRIPTION:Did you miss the Oktoberfest in Germany? Did you just return from M nchen but you are longing for more Gem tlichkeit? Either way you are covered because Friday's Stammtisch will be Oktoberfest.\n\n	\n\n	You will be entertained by accordionist Karl Scheer and the Egerlander dance group as they perform traditional dances while in authentic dress. Get ready to dance to the "Fliegerleid" and the "Chicken Dance" with the Egerlander!\n\n	\n\n	The Bavarian theme continues with Paulaner & Hacker-Pschorr fest beer. The official sausage of the Oktoberfest\, weisswurst will be served with sweet mustard.\n\n	\n\n	It's time for Oktoberfest at the DANK Haus\, so don your dirndl and lace up your lederhosen!\n\n	Trachten encouraged. No cover but limited seating is available.
X-ALT-DESC;FMTTYPE=text/html:<div class="description summary">\n	Did you miss the Oktoberfest in Germany? Did you just return from M&uuml\;nchen but you are longing for more Gem&uuml\;tlichkeit? Either way you are covered because Friday&rsquo\;s Stammtisch will be Oktoberfest.<br />\n	<br />\n	You will be entertained by accordionist Karl Scheer and the Egerlander dance group as they perform traditional dances while in authentic dress. Get ready to dance to the &quot\;Fliegerleid&quot\; and the &quot\;Chicken Dance&quot\; with the Egerlander!<br />\n	<br />\n	The Bavarian theme continues with Paulaner &amp\; Hacker-Pschorr fest beer. The official sausage of the Oktoberfest\, weisswurst will be served with sweet mustard.<br />\n	<br />\n	It&rsquo\;s time for Oktoberfest at the DANK Haus\, so don your dirndl and lace up your lederhosen!<br />\n	Trachten encouraged. No cover but limited seating is available.</div>\n
LOCATION:DANK Haus German American Cultural Center 4740 N Western Ave
UID:e.697.834
SEQUENCE:3
DTSTAMP:20260420T081548Z
URL:http://lincolnsquareravenswood.smartcms.site/events/details/stammtisch-open-house-834
END:VEVENT

END:VCALENDAR
