BEGIN:VCALENDAR
VERSION:2.0
PRODID:-//ChamberMaster//Event Calendar 2.0//EN
METHOD:PUBLISH
X-PUBLISHED-TTL:P3D
REFRESH-INTERVAL:P3D
CALSCALE:GREGORIAN
BEGIN:VEVENT
DTSTART:20111217T013000Z
DTEND:20111217T043000Z
X-MICROSOFT-CDO-ALLDAYEVENT:FALSE
SUMMARY:STAMMTISCH - OPEN HOUSE
DESCRIPTION:Great German Beer\, Food and Gemuetlichkeit! Come be a regular at DANK Haus!\n\nFREE admission. FREE parking at MB Financial Bank at Western and Gunnison.\n\nwww.dankhaus.com
X-ALT-DESC;FMTTYPE=text/html:Great German Beer\, Food and Gemuetlichkeit! Come be a regular at DANK Haus!<br />\nFREE admission. FREE parking at MB Financial Bank at Western and Gunnison.<br />\nwww.dankhaus.com 
LOCATION:DANK Haus German American Cultural Center 4740 N Western Ave
UID:e.697.836
SEQUENCE:3
DTSTAMP:20260420T045201Z
URL:http://lincolnsquareravenswood.smartcms.site/events/details/stammtisch-open-house-836
END:VEVENT

END:VCALENDAR
