BEGIN:VCALENDAR
VERSION:2.0
PRODID:-//ChamberMaster//Event Calendar 2.0//EN
METHOD:PUBLISH
X-PUBLISHED-TTL:P3D
REFRESH-INTERVAL:P3D
CALSCALE:GREGORIAN
BEGIN:VEVENT
DTSTART:20100821T003000Z
DTEND:20100821T043000Z
X-MICROSOFT-CDO-ALLDAYEVENT:FALSE
SUMMARY:Stammtisch - Open House Hawaii Nite
DESCRIPTION:Terrace goes Tropical - and hint hint\n\nentertainment goes a little Blue Hawaii\n\nFree admission\n\nGreat German bier\, food Gemütlichkeit
X-ALT-DESC;FMTTYPE=text/html:Terrace goes Tropical - and hint hint\n<br>entertainment goes a little Blue Hawaii\n<br>Free admission\n<br>Great German bier\, food Gemütlichkeit
LOCATION:
UID:e.697.580
SEQUENCE:3
DTSTAMP:20260421T063503Z
URL:http://lincolnsquareravenswood.smartcms.site/events/details/stammtisch-open-house-hawaii-nite-580
END:VEVENT

END:VCALENDAR
