BEGIN:VCALENDAR
VERSION:2.0
PRODID:-//ChamberMaster//Event Calendar 2.0//EN
METHOD:PUBLISH
X-PUBLISHED-TTL:P3D
REFRESH-INTERVAL:P3D
CALSCALE:GREGORIAN
BEGIN:VEVENT
DTSTART:20120719T233000Z
DTEND:20120720T030000Z
X-MICROSOFT-CDO-ALLDAYEVENT:FALSE
SUMMARY:Summer Brew
DESCRIPTION:This Summer Lincoln Square is kicking the Chicago street festival scene up a notch with the inaugural Summer Brew!  Join the Lincoln Square Chamber of Commerce for a night of local beer and local food as we celebrate the start of the much anticipated Square Roots fest!\n\n\n\nOn Thursday\, July 19th local breweries from around Chicago and the Great Lakes Region will be pouring under the open skies to showcase what great beers Chicago and the Region has to offer. This special evening event will showcase over 15 specially selected beers\, many of which won't be available to the general public during the Square Roots fest. Several brew masters will even be on hand so that you'll have a chance to learn a little bit about each of the beers and discuss what makes each of them unique.\n\n\n\nParticipating Breweries include:\n\n    - Two Brothers (Warrenville\, IL)\n\n    - 5 Rabbit (Chicago\, IL)\n\n    - Finch (Chicago\, IL)\n\n    - Founders (Grand Rapids\, MI)\n\n    - Greenbush (Sawyer\, MI)\n\n    - Hinterland (Green Bay\, WI)\n\n    - Metropolitan (Chicago\, IL)\n\n    - New Holland (Holland\, MI)\n\n    - Vander Mill Cider (Spring Lake\, MI)\n\n\n\nIf you're hungry during the event local restaurants The Grafton Pub and Fountainhead will be cooking up some of the best food in town!  We'll even have wine for those of you who don't have a taste for beer.\n\n\n\nGET YOUR TICKETS TODAY!  TICKETS ARE LIMITED FOR THIS SPECIAL EVENT!\n\n\n\n***********************************\n\n\n\n$20 Admission\, includes complimentary 9 ounce glass and first beer.\n\n\n\nDrink/food tickets will be available for purchase at the event with cash.\n\n1 ticket = $1.00\n\n\n\nBeers = 4 tickets (9 ounce pour)\n\nWine = 5 tickets\n\nFood = 4 to 8 tickets\n\n\n\n\n\nPURCHASE TICKETS THROUGH BROWN PAPER TICKETS\n\n\n\n**Proceeds from this event go towards the production of free events in Lincoln Square.
X-ALT-DESC;FMTTYPE=text/html:<br />\nThis Summer Lincoln Square is kicking the Chicago street festival scene up a notch with the inaugural Summer Brew! &nbsp\;Join the Lincoln Square Chamber of Commerce for a night of local beer and local food as we celebrate the start of the much anticipated <a href="http://www.squareroots.org">Square Roots</a> fest!<br />\n<br />\nOn Thursday\, July 19th local breweries from around Chicago and the Great Lakes Region will be pouring under the open skies to showcase what great beers Chicago and the Region has to offer. <strong>This special evening event will showcase over 15 specially selected beers\, many of which won&#39\;t be available to the general public during the Square Roots fest.</strong> Several brew masters will even be on hand so that you&#39\;ll have a chance to learn a little bit about each of the beers and discuss what makes each of them unique.<br />\n<br />\nParticipating Breweries include:<br />\n&nbsp\; &nbsp\; - Two Brothers (Warrenville\, IL)<br />\n&nbsp\; &nbsp\; - 5 Rabbit (Chicago\, IL)<br />\n&nbsp\; &nbsp\; - Finch (Chicago\, IL)<br />\n&nbsp\; &nbsp\; - Founders (Grand Rapids\, MI)<br />\n&nbsp\; &nbsp\; - Greenbush (Sawyer\, MI)<br />\n&nbsp\; &nbsp\; - Hinterland (Green Bay\, WI)<br />\n&nbsp\; &nbsp\; - Metropolitan (Chicago\, IL)<br />\n&nbsp\; &nbsp\; - New Holland (Holland\, MI)<br />\n&nbsp\; &nbsp\; - Vander Mill Cider (Spring Lake\, MI)<br />\n<br />\nIf you&#39\;re hungry during the event local restaurants The Grafton Pub and Fountainhead will be cooking up some of the best food in town!&nbsp\; We&#39\;ll even have wine for those of you who don&#39\;t have a taste for beer.<br />\n<br />\n<strong>GET YOUR TICKETS TODAY! &nbsp\;TICKETS ARE LIMITED FOR THIS SPECIAL EVENT!</strong><br />\n<br />\n***********************************<br />\n<br />\n$20 Admission\, includes complimentary 9 ounce glass and first beer.<br />\n<br />\nDrink/food tickets will be available for purchase at the event with cash.<br />\n1 ticket = $1.00<br />\n<br />\nBeers = 4 tickets (9 ounce pour)<br />\nWine = 5 tickets<br />\nFood = 4 to 8 tickets<br />\n<br />\n<br />\n<span style="color:#ff8c00\;"><strong>PURCHASE TICKETS THROUGH </strong></span><strong><a href="http://www.brownpapertickets.com/event/257443"><span style="color:#ff8c00\;">BROWN PAPER TICKETS</span></a></strong><br />\n<br />\n<span style="font-size:10px\;"><em>**Proceeds from this event go towards the production of free events in Lincoln Square.</em></span>
LOCATION:4533 N. Lincoln Avenue (City Parking Lot adjacent to Bad Dog Tavern) Chicago IL 60625
UID:e.697.3596
SEQUENCE:3
DTSTAMP:20260419T183202Z
URL:http://lincolnsquareravenswood.smartcms.site/events/details/summer-brew-3596
END:VEVENT

END:VCALENDAR
