BEGIN:VCALENDAR
VERSION:2.0
PRODID:-//ChamberMaster//Event Calendar 2.0//EN
METHOD:PUBLISH
X-PUBLISHED-TTL:P3D
REFRESH-INTERVAL:P3D
CALSCALE:GREGORIAN
BEGIN:VEVENT
DTSTART:20110804T233000Z
DTEND:20110805T020000Z
X-MICROSOFT-CDO-ALLDAYEVENT:FALSE
SUMMARY:Summer Concert Series
DESCRIPTION:Come listen to some up-tempo folk sound as Check with Lucy performs!
X-ALT-DESC;FMTTYPE=text/html:Come listen to some up-tempo folk sound as Check with Lucy performs! 
LOCATION:Giddings Plaza at N. Lincoln and W. Giddings (across from the Chicago Brauhaus)
UID:e.697.892
SEQUENCE:3
DTSTAMP:20260420T111441Z
URL:http://lincolnsquareravenswood.smartcms.site/events/details/summer-concert-series-08-04-2011-892
END:VEVENT

END:VCALENDAR
