BEGIN:VCALENDAR
VERSION:2.0
PRODID:-//ChamberMaster//Event Calendar 2.0//EN
METHOD:PUBLISH
X-PUBLISHED-TTL:P3D
REFRESH-INTERVAL:P3D
CALSCALE:GREGORIAN
BEGIN:VEVENT
DTSTART:20110901T233000Z
DTEND:20110902T020000Z
X-MICROSOFT-CDO-ALLDAYEVENT:FALSE
SUMMARY:Summer Concert Series
DESCRIPTION:Come listen to some Classic Rock as Captain Blood Orchestra are performing tonight!
X-ALT-DESC;FMTTYPE=text/html:Come listen to&nbsp\;some Classic Rock as Captain Blood&nbsp\;Orchestra are performing tonight! &nbsp\;
LOCATION:Giddings Plaza at N. Lincoln and W. Giddings (across from the Chicago Brauhaus)
UID:e.697.896
SEQUENCE:3
DTSTAMP:20260420T094019Z
URL:http://lincolnsquareravenswood.smartcms.site/events/details/summer-concert-series-09-01-2011-896
END:VEVENT

END:VCALENDAR
