BEGIN:VCALENDAR
VERSION:2.0
PRODID:-//ChamberMaster//Event Calendar 2.0//EN
METHOD:PUBLISH
X-PUBLISHED-TTL:P3D
REFRESH-INTERVAL:P3D
CALSCALE:GREGORIAN
BEGIN:VEVENT
DTSTART:20110630T233000Z
DTEND:20110701T020000Z
X-MICROSOFT-CDO-ALLDAYEVENT:FALSE
SUMMARY:Summer Concert Series
DESCRIPTION:Come out tonight and listen to the Reggae band\, Drop Steady!
X-ALT-DESC;FMTTYPE=text/html:Come out tonight and listen to&nbsp\;the&nbsp\;Reggae band\,&nbsp\;Drop Steady! 
LOCATION:Giddings Plaza at N. Lincoln and W. Giddings (across from the Chicago Brauhaus)
UID:e.697.887
SEQUENCE:3
DTSTAMP:20260420T142116Z
URL:http://lincolnsquareravenswood.smartcms.site/events/details/summer-concert-series-887
END:VEVENT

END:VCALENDAR
