BEGIN:VCALENDAR
VERSION:2.0
PRODID:-//ChamberMaster//Event Calendar 2.0//EN
METHOD:PUBLISH
X-PUBLISHED-TTL:P3D
REFRESH-INTERVAL:P3D
CALSCALE:GREGORIAN
BEGIN:VEVENT
DTSTART:20120726T233000Z
DTEND:20120727T020000Z
X-MICROSOFT-CDO-ALLDAYEVENT:FALSE
SUMMARY:Summer Concert Series-The Stingers
DESCRIPTION:The annual Summer Concert Series\, Lincoln Square's favorite free summer event! Be sure to tell your entire family and all of your friends! No one is going to want to miss out on this great\, fun event!\n\n	\n\n	In case of rain or severe weather please check our website for up-to-date information on performances.Click here to edit...
X-ALT-DESC;FMTTYPE=text/html:<div style="color: gray">\n	The annual Summer Concert Series\, Lincoln Square&#39\;s favorite free summer event! Be sure to tell your entire family and all of your friends! No one is going to want to miss out on this great\, fun event!<br />\n	<br />\n	<em><span style="font-family: calibri\,sans-serif">In case of rain or severe weather please check our website for up-to-date information on </span></em><em><span style="font-family: calibri\,sans-serif">performances.</span></em>Click here to edit...</div>\n
LOCATION:4731 N. Lincoln Ave.-Giddings Plaza
UID:e.697.3587
SEQUENCE:3
DTSTAMP:20260419T183440Z
URL:http://lincolnsquareravenswood.smartcms.site/events/details/summer-concert-series-the-stingers-3587
END:VEVENT

END:VCALENDAR
