BEGIN:VCALENDAR
VERSION:2.0
PRODID:-//ChamberMaster//Event Calendar 2.0//EN
METHOD:PUBLISH
X-PUBLISHED-TTL:P3D
REFRESH-INTERVAL:P3D
CALSCALE:GREGORIAN
BEGIN:VEVENT
DTSTART:20101219T003000Z
DTEND:20101219T033000Z
X-MICROSOFT-CDO-ALLDAYEVENT:FALSE
SUMMARY:Teens in Toyland Gift Drive
DESCRIPTION:Help Lawrence Hall share the ?reason for the season? by attending Bank of America Cinema?s Classic Films Series featuring Babes in Toyland. Gather your friends and family for a special screening of this holiday classic and help bring some holiday magic to at-risk teens who will be in Lawrence Hall?s programs during the holiday season. \n\n\n\nSaturday\, December 18th\, 2010\n\n\n\nBank of America Auditorium\n\n4901 W. Irving Park Road\, 2nd Floor\n\nFree parking in lot behind building\n\n\n\nPrescreening Reception \n\nbegins at 6:30 PM in the 2nd floor lobby \n\n(includes snacks\, refreshments\, preferred seating and presentation on the history of the film)\n\n\n\nScreening at 8:00 PM\n\n\n\nTICKET PRICES:\n\n$25 for adults \n\n$10 for children under 12 \n\n\n\nAdmission is free for attendees who bring a $25 gift card for Lawrence Hall?s Wish List Drive. Suggested donations include: gift cards to department stores\, grocery stores\, restaurant chains and debit cards.\n\n\n\n\n\nDonations of canned goods\, grocery gift cards and non-perishables are also needed to create food baskets for over 200 families. \n\n\n\n\n\nSpace is limited! Please call Pam West at (312) 456-2488 to reserve tickets. Tickets will be held at the door.\n\n\n\n\n\nFilm Summary: Ollie Dee and Stanley Dum try to borrow money from their employer\, the toymaker\, to pay off the mortgage on Mother Peep's shoe and keep it and Little Bo Peep from the clutches of the evil Barnaby. When that fails\, they trick Barnaby into marrying Stanley Dum instead of Bo Peep. Enraged\, Barnaby unleashes the bogeymen from their caverns to destroy Toyland.
X-ALT-DESC;FMTTYPE=text/html:Help Lawrence Hall share the ?reason for the season? by attending Bank of America Cinema?s Classic Films Series featuring Babes in Toyland. Gather your friends and family for a special screening of this holiday classic and help bring some holiday magic to at-risk teens who will be in Lawrence Hall?s programs during the holiday season. \n<br>\n<br>Saturday\, December 18th\, 2010\n<br>\n<br>Bank of America Auditorium\n<br>4901 W. Irving Park Road\, 2nd Floor\n<br>Free parking in lot behind building\n<br>\n<br>Prescreening Reception \n<br>begins at 6:30 PM in the 2nd floor lobby \n<br>(includes snacks\, refreshments\, preferred seating and presentation on the history of the film)\n<br>\n<br>Screening at 8:00 PM\n<br>\n<br>TICKET PRICES:\n<br>$25 for adults \n<br>$10 for children under 12 \n<br>\n<br>Admission is free for attendees who bring a $25 gift card for Lawrence Hall?s Wish List Drive. Suggested donations include: gift cards to department stores\, grocery stores\, restaurant chains and debit cards.\n<br>\n<br>\n<br>Donations of canned goods\, grocery gift cards and non-perishables are also needed to create food baskets for over 200 families. \n<br>\n<br>\n<br>Space is limited! Please call Pam West at (312) 456-2488 to reserve tickets. Tickets will be held at the door.\n<br>\n<br>\n<br>Film Summary: Ollie Dee and Stanley Dum try to borrow money from their employer\, the toymaker\, to pay off the mortgage on Mother Peep's shoe and keep it and Little Bo Peep from the clutches of the evil Barnaby. When that fails\, they trick Barnaby into marrying Stanley Dum instead of Bo Peep. Enraged\, Barnaby unleashes the bogeymen from their caverns to destroy Toyland.\n<br>\n<br>
LOCATION:Bank of America Auditorium 4901 W. Irving Park Road\, 2nd Floor Free parking in lot behind building
UID:e.697.687
SEQUENCE:3
DTSTAMP:20260421T001044Z
URL:http://lincolnsquareravenswood.smartcms.site/events/details/teens-in-toyland-gift-drive-687
END:VEVENT

END:VCALENDAR
