BEGIN:VCALENDAR
VERSION:2.0
PRODID:-//ChamberMaster//Event Calendar 2.0//EN
METHOD:PUBLISH
X-PUBLISHED-TTL:P3D
REFRESH-INTERVAL:P3D
CALSCALE:GREGORIAN
BEGIN:VEVENT
DTSTART;VALUE=DATE:20101125
DTEND;VALUE=DATE:20101126
TRANSP:TRANSPARENT
X-MICROSOFT-CDO-ALLDAYEVENT:TRUE
SUMMARY:Thanksgiving at Trattoria Trullo
DESCRIPTION:- Special Thanksgiving Menu at Trattoria Trullo - \n\n(Does not include tax or gratuity -- Reservations a must)\n\n\n\nSoup\n\nAcorn Squash with a dollop of corn and sour cream\n\n\n\nSalad\n\nCaprese\n\nOR\n\nMixed Green Salad\n\n\n\nEntree\n\nLobster Capellaci (homemade pasta stuffed with lobster)\n\nOR\n\nRoasted Turkey with sausage stuffing\, sweet potatoes and vegetables\n\nOR\n\nFillet of Tilapia\n\nOR\n\nEggplant Parmesan (vegetarian)\n\n\n\nDessert\n\nPumpkin Panna Cotta\n\nOR\n\nPecan Pie
X-ALT-DESC;FMTTYPE=text/html:\n<br>- Special Thanksgiving Menu at Trattoria Trullo - \n<br>(Does not include tax or gratuity -- Reservations a must)\n<br>\n<br>Soup\n<br>Acorn Squash with a dollop of corn and sour cream\n<br>\n<br>Salad\n<br>Caprese\n<br>OR\n<br>Mixed Green Salad\n<br>\n<br>Entree\n<br>Lobster Capellaci (homemade pasta stuffed with lobster)\n<br>OR\n<br>Roasted Turkey with sausage stuffing\, sweet potatoes and vegetables\n<br>OR\n<br>Fillet of Tilapia\n<br>OR\n<br>Eggplant Parmesan (vegetarian)\n<br>\n<br>Dessert\n<br>Pumpkin Panna Cotta\n<br>OR\n<br>Pecan Pie\n<br> \n<br>
LOCATION:4767 N Lincoln Ave
UID:e.697.669
SEQUENCE:3
DTSTAMP:20260421T013644Z
URL:http://lincolnsquareravenswood.smartcms.site/events/details/thanksgiving-at-trattoria-trullo-669
END:VEVENT

END:VCALENDAR
