BEGIN:VCALENDAR
VERSION:2.0
PRODID:-//ChamberMaster//Event Calendar 2.0//EN
METHOD:PUBLISH
X-PUBLISHED-TTL:P3D
REFRESH-INTERVAL:P3D
CALSCALE:GREGORIAN
BEGIN:VEVENT
DTSTART;VALUE=DATE:20111124
DTEND;VALUE=DATE:20111125
TRANSP:TRANSPARENT
X-MICROSOFT-CDO-ALLDAYEVENT:TRUE
SUMMARY:Thanksgiving Dinner at LM Restaurant
DESCRIPTION:THANKSGIVING\n\n	LM will be offering regular menu on Thanksgiving.\n\n	 \n\n	Our Thanksgiving Tasting Menu $45\n\n	Chestnut soup\, poached apple\, celery ragout\n\n	Seared scallop\, leek confit\, winter truffle\, Parmesan foam\n\n	Slow cooked turkey breast\, sweet potato gratin\, brussel sprouts\, jus\n\n	Pumpkin tart\, cranberry chutney\, cream cheese\n\n	 \n\n	Our menu is fresh and changes often. We frequently update our online menu\, but please note that it is subject to change.
X-ALT-DESC;FMTTYPE=text/html:<div align="center">\n	<span class="title">THANKSGIVING</span></div>\n<p align="center" class="body_simple">\n	<span class="body_bold">LM will be offering regular menu on Thanksgiving.</span></p>\n<p align="center" class="body_simple">\n	&nbsp\;</p>\n<p align="center" class="body_simple">\n	<span class="body_bold">Our Thanksgiving Tasting Menu $45</span></p>\n<p align="center" class="body_simple">\n	Chestnut soup\, poached apple\, celery ragout</p>\n<p align="center" class="body_simple">\n	Seared scallop\, leek confit\, winter truffle\, Parmesan foam</p>\n<p align="center" class="body_simple">\n	Slow cooked turkey breast\, sweet potato gratin\, brussel sprouts\, jus</p>\n<p align="center" class="body_simple">\n	Pumpkin tart\, cranberry chutney\, cream cheese</p>\n<p class="body_simple">\n	&nbsp\;</p>\n<p class="body_simple">\n	<span class="body_wine">Our menu is fresh and changes often. We frequently update our online menu\, but please note that it is subject to change.</span></p>\n
LOCATION:LM Restaurant 4539 N. Lincoln Avenue
UID:e.697.2222
SEQUENCE:3
DTSTAMP:20260420T063418Z
URL:http://lincolnsquareravenswood.smartcms.site/events/details/thanksgiving-dinner-at-lm-restaurant-2222
END:VEVENT

END:VCALENDAR
