BEGIN:VCALENDAR
VERSION:2.0
PRODID:-//ChamberMaster//Event Calendar 2.0//EN
METHOD:PUBLISH
X-PUBLISHED-TTL:P3D
REFRESH-INTERVAL:P3D
CALSCALE:GREGORIAN
BEGIN:VEVENT
DTSTART:20110818T230000Z
DTEND:20110819T013000Z
X-MICROSOFT-CDO-ALLDAYEVENT:FALSE
SUMMARY:The Dressing Room - Thursday Happy Hours
DESCRIPTION:Join the Dressing Room Chicago for Thursday Happy Hours!\n\n	\n\n	 \n\n	From 6:00 - 8:30 PM:\n\n	"Sidewalk" Specials 25-75% Off!\n\n	"Skinny" Margaritas\, and Snacks
X-ALT-DESC;FMTTYPE=text/html:<h1 style="text-align: center">\n	<br />\n	<span style="font-size: 14px"><span style="font-family: arial"><strong>Join the Dressing Room Chicago for Thursday Happy Hours!</strong></span></span></h1>\n<p style="text-align: center">\n	<br />\n	&nbsp\;</p>\n<p style="text-align: center">\n	<strong><span style="font-size: 14px"><span style="font-family: arial"><font color="#000000"><i>From 6:00 - 8:30 PM:</i><br />\n	&quot\;Sidewalk&quot\; Specials 25-75% Off!<br />\n	&quot\;Skinny&quot\; Margaritas\, and Snacks </font></span></span></strong></p>\n
LOCATION:The Dressing Room 4635 N. Lincoln Avenue
UID:e.697.1332
SEQUENCE:3
DTSTAMP:20260420T111441Z
URL:http://lincolnsquareravenswood.smartcms.site/events/details/the-dressing-room-thursday-happy-hours-1332
END:VEVENT

END:VCALENDAR
