BEGIN:VCALENDAR
VERSION:2.0
PRODID:-//ChamberMaster//Event Calendar 2.0//EN
METHOD:PUBLISH
X-PUBLISHED-TTL:P3D
REFRESH-INTERVAL:P3D
CALSCALE:GREGORIAN
BEGIN:VEVENT
DTSTART:20100901T230000Z
DTEND:20100902T020000Z
X-MICROSOFT-CDO-ALLDAYEVENT:FALSE
SUMMARY:Outdoor Concert- The Landsberg Brass Ensemble- Chicago Brauhaus
DESCRIPTION:A German- American Fest Kickoff concert featuring direct from GermanyThe Landsberg Brass Ensemble
X-ALT-DESC;FMTTYPE=text/html:<div style="text-align: center">A German- American Fest Kickoff concert featuring direct from Germany</div><div style="text-align: center">The Landsberg Brass Ensemble</div>
LOCATION:Giddings Plaza- 4732 N. Lincoln
UID:e.697.624
SEQUENCE:3
DTSTAMP:20260421T045829Z
URL:http://lincolnsquareravenswood.smartcms.site/events/details/the-landsberg-brass-ensemble-chicago-brauhaus-624
END:VEVENT

END:VCALENDAR
