BEGIN:VCALENDAR
VERSION:2.0
PRODID:-//ChamberMaster//Event Calendar 2.0//EN
METHOD:PUBLISH
X-PUBLISHED-TTL:P3D
REFRESH-INTERVAL:P3D
CALSCALE:GREGORIAN
BEGIN:VEVENT
DTSTART:20110422T190000Z
DTEND:20110422T230000Z
X-MICROSOFT-CDO-ALLDAYEVENT:FALSE
SUMMARY:The Red Lion Lincoln Square-All You Can Eat Fish and Chips
DESCRIPTION:Early bird special-All you can eat fish and chips!  Try our famous deep fried beer battered cod\, chunky cut chips (fries) with cole slaw and tartar sauce.  $10.25
X-ALT-DESC;FMTTYPE=text/html:Early bird special-All you can eat fish and chips!  Try our famous deep fried beer battered cod\, chunky cut chips (fries) with cole slaw and tartar sauce.  $10.25
LOCATION:4749 North Rockwell
UID:e.697.861
SEQUENCE:3
DTSTAMP:20260420T173836Z
URL:http://lincolnsquareravenswood.smartcms.site/events/details/the-red-lion-lincoln-square-all-you-can-eat-fish-and-chips-861
END:VEVENT

END:VCALENDAR
