BEGIN:VCALENDAR
VERSION:2.0
PRODID:-//ChamberMaster//Event Calendar 2.0//EN
METHOD:PUBLISH
X-PUBLISHED-TTL:P3D
REFRESH-INTERVAL:P3D
CALSCALE:GREGORIAN
BEGIN:VEVENT
DTSTART:20100902T210000Z
DTEND:20100903T010000Z
X-MICROSOFT-CDO-ALLDAYEVENT:FALSE
SUMMARY:Thursday Night Farmers Market
DESCRIPTION:Miss out on the seasonal produce from Tuesday mornings?? Well not any longer! Join us Thursday evenings this summer as we host a evening Farmers Market right at the Western El Brown line stop from 4-8pm. While you're at it don't miss out on the Lincoln Square Summer Concerts in Giddings Plaza beginning at 6:30pm.
X-ALT-DESC;FMTTYPE=text/html:<div><div>Miss out on the seasonal produce from Tuesday mornings?? Well not any longer! Join us Thursday evenings this summer as we host a evening Farmers Market right at the Western El Brown line stop from 4-8pm.</div><div>&nbsp\;</div><div>While you&rsquo\;re at it don&rsquo\;t miss out on the Lincoln Square Summer Concerts in Giddings Plaza beginning at 6:30pm.</div></div>
LOCATION:Lincoln and Leland
UID:e.697.575
SEQUENCE:3
DTSTAMP:20260421T045915Z
URL:http://lincolnsquareravenswood.smartcms.site/events/details/thursday-night-farmers-market-09-02-2010-575
END:VEVENT

END:VCALENDAR
