BEGIN:VCALENDAR
VERSION:2.0
PRODID:-//ChamberMaster//Event Calendar 2.0//EN
METHOD:PUBLISH
X-PUBLISHED-TTL:P3D
REFRESH-INTERVAL:P3D
CALSCALE:GREGORIAN
BEGIN:VEVENT
DTSTART:20100314T153000Z
DTEND:20100314T170000Z
X-MICROSOFT-CDO-ALLDAYEVENT:FALSE
SUMMARY:TODDLER CPR & Safety
DESCRIPTION:Do you know what to do when your toddler is choking\, gets burned\, can't breath...The infant CPR & First Aid class you took two years ago (or more) doesn't apply to Toddlerhood. Do you really remember half of it anyway? This is an IMPORTANT CLASS for every parent! Knowing what to do in an emergency can save the lives of the people around you.  Parenting a toddler poses unique challenges and considerations for safety. Parent with less worry by making sure you know how to handle emergencies\, as well as tips for prevention.  This covers the Adult/Child portion of the American Heart Association Friends & Family course. Each family receives a comprehensive textbook.
X-ALT-DESC;FMTTYPE=text/html:Do you know what to do when your toddler is choking\, gets burned\, can't breath...The infant CPR & First Aid class you took two years ago (or more) doesn't apply to Toddlerhood. Do you really remember half of it anyway? This is an IMPORTANT CLASS for every parent! Knowing what to do in an emergency can save the lives of the people around you.  Parenting a toddler poses unique challenges and considerations for safety. Parent with less worry by making sure you know how to handle emergencies\, as well as tips for prevention.  This covers the Adult/Child portion of the American Heart Association Friends & Family course. Each family receives a comprehensive textbook.
LOCATION:Bellybum Boutique
UID:e.697.282
SEQUENCE:3
DTSTAMP:20260421T154538Z
URL:http://lincolnsquareravenswood.smartcms.site/events/details/toddler-cpr-safety-282
END:VEVENT

END:VCALENDAR
