BEGIN:VCALENDAR
VERSION:2.0
PRODID:-//ChamberMaster//Event Calendar 2.0//EN
METHOD:PUBLISH
X-PUBLISHED-TTL:P3D
REFRESH-INTERVAL:P3D
CALSCALE:GREGORIAN
BEGIN:VEVENT
DTSTART:20110303T000000Z
DTEND:20110303T040000Z
X-MICROSOFT-CDO-ALLDAYEVENT:FALSE
SUMMARY:Tour of Puglia Wine Dinner
DESCRIPTION:Presented by Chicagourmet and Winebow . . . a 5 course meal paired with select wines!
X-ALT-DESC;FMTTYPE=text/html:Presented by Chicagourmet and Winebow . . . a 5 course meal paired with select wines!
LOCATION:4767 N Lincoln Ave
UID:e.697.698
SEQUENCE:3
DTSTAMP:20260420T191250Z
URL:http://lincolnsquareravenswood.smartcms.site/events/details/tour-of-puglia-wine-dinner-698
END:VEVENT

END:VCALENDAR
