BEGIN:VCALENDAR
VERSION:2.0
PRODID:-//ChamberMaster//Event Calendar 2.0//EN
METHOD:PUBLISH
X-PUBLISHED-TTL:P3D
REFRESH-INTERVAL:P3D
CALSCALE:GREGORIAN
BEGIN:VEVENT
DTSTART:20100923T003000Z
DTEND:20100923T030000Z
X-MICROSOFT-CDO-ALLDAYEVENT:FALSE
SUMMARY:TreffpunktDANK
DESCRIPTION:Don't miss an opportunity for some al fresco dining with us. Our Skyline Lounge will be open for dining and socializing. The meals are $6\, but the fantastisch German conversation is absolutely free.
X-ALT-DESC;FMTTYPE=text/html:Don't miss an opportunity for some al fresco dining with us. Our Skyline Lounge will be open for dining and socializing. The meals are $6\, but the fantastisch German conversation is absolutely free.
LOCATION:
UID:e.697.592
SEQUENCE:3
DTSTAMP:20260421T045618Z
URL:http://lincolnsquareravenswood.smartcms.site/events/details/treffpunktdank-592
END:VEVENT

END:VCALENDAR
