BEGIN:VCALENDAR
VERSION:2.0
PRODID:-//ChamberMaster//Event Calendar 2.0//EN
METHOD:PUBLISH
X-PUBLISHED-TTL:P3D
REFRESH-INTERVAL:P3D
CALSCALE:GREGORIAN
BEGIN:VEVENT
DTSTART;VALUE=DATE:20101002
DTEND;VALUE=DATE:20101003
TRANSP:TRANSPARENT
X-MICROSOFT-CDO-ALLDAYEVENT:TRUE
SUMMARY:Trunk Show at Salamander of Chicago
DESCRIPTION:Visit us for our Ara brand trunk show with special discounts and giveaways. Celebrate fall and view European fall fashions in medium to extra wide widths.
X-ALT-DESC;FMTTYPE=text/html:Visit us for our Ara brand trunk show with special discounts and giveaways. Celebrate fall and view European fall fashions in medium to extra wide widths.
LOCATION:
UID:e.697.642
SEQUENCE:3
DTSTAMP:20260421T045918Z
URL:http://lincolnsquareravenswood.smartcms.site/events/details/trunk-show-at-salamander-of-chicago-642
END:VEVENT

END:VCALENDAR
