BEGIN:VCALENDAR
VERSION:2.0
PRODID:-//ChamberMaster//Event Calendar 2.0//EN
METHOD:PUBLISH
X-PUBLISHED-TTL:P3D
REFRESH-INTERVAL:P3D
CALSCALE:GREGORIAN
BEGIN:VEVENT
DTSTART;VALUE=DATE:20111004
DTEND;VALUE=DATE:20111005
TRANSP:TRANSPARENT
X-MICROSOFT-CDO-ALLDAYEVENT:TRUE
SUMMARY:Tuesday Morning Farmer's Market
DESCRIPTION:Stop by the City of Chicago Farmer's Market every Tuesday morning from 7:00am - 1:00pm.
X-ALT-DESC;FMTTYPE=text/html:Stop by the City of Chicago Farmer&#39\;s Market every Tuesday morning from 7:00am - 1:00pm.&nbsp\;
LOCATION:
UID:e.697.1097
SEQUENCE:3
DTSTAMP:20260420T081834Z
URL:http://lincolnsquareravenswood.smartcms.site/events/details/tuesday-morning-farmer-s-market-10-04-2011-1097
END:VEVENT

END:VCALENDAR
