BEGIN:VCALENDAR
VERSION:2.0
PRODID:-//ChamberMaster//Event Calendar 2.0//EN
METHOD:PUBLISH
X-PUBLISHED-TTL:P3D
REFRESH-INTERVAL:P3D
CALSCALE:GREGORIAN
BEGIN:VEVENT
DTSTART:20111025T120000Z
DTEND:20111025T180000Z
X-MICROSOFT-CDO-ALLDAYEVENT:FALSE
SUMMARY:Tuesday Morning Farmer's Market
DESCRIPTION:Stop by the City of Chicago Farmer's Market every Tuesday morning from 7:00am - 1:00pm.
X-ALT-DESC;FMTTYPE=text/html:Stop by the City of Chicago Farmer&#39\;s Market every Tuesday morning from 7:00am - 1:00pm.&nbsp\;
LOCATION:Municipal Parking Lot CTA Western Brown Line Station Lincoln and Leland
UID:e.697.1100
SEQUENCE:3
DTSTAMP:20260420T081849Z
URL:http://lincolnsquareravenswood.smartcms.site/events/details/tuesday-morning-farmer-s-market-10-25-2011-1100
END:VEVENT

END:VCALENDAR
