BEGIN:VCALENDAR
VERSION:2.0
PRODID:-//ChamberMaster//Event Calendar 2.0//EN
METHOD:PUBLISH
X-PUBLISHED-TTL:P3D
REFRESH-INTERVAL:P3D
CALSCALE:GREGORIAN
BEGIN:VEVENT
DTSTART:20111115T130000Z
DTEND:20111115T190000Z
X-MICROSOFT-CDO-ALLDAYEVENT:FALSE
SUMMARY:Tuesday Morning Farmers Market - Extended
DESCRIPTION:The City of Chicago Tuesday Morning Farmers' Market has been extended!  Stop by every Tuesday morning from now until November 22nd between 7am to 1pm for delicious local produce and goods!  The Farmer's would love to see you!
X-ALT-DESC;FMTTYPE=text/html:<p style="text-align: center">\n	<br />\n	<span style="font-size: 16px"><strong>The City of Chicago Tuesday Morning Farmers&#39\; Market has been extended!&nbsp\; Stop by every Tuesday morning from now until November 22nd between&nbsp\;7am to 1pm for delicious local produce and goods!&nbsp\; The Farmer&#39\;s would love to see you!</strong></span></p>\n
LOCATION:Municipal Parking Lot Corner of Lincoln and Leland
UID:e.697.2203
SEQUENCE:3
DTSTAMP:20260420T063601Z
URL:http://lincolnsquareravenswood.smartcms.site/events/details/tuesday-morning-farmers-market-extended-11-15-2011-2203
END:VEVENT

END:VCALENDAR
