BEGIN:VCALENDAR
VERSION:2.0
PRODID:-//ChamberMaster//Event Calendar 2.0//EN
METHOD:PUBLISH
X-PUBLISHED-TTL:P3D
REFRESH-INTERVAL:P3D
CALSCALE:GREGORIAN
BEGIN:VEVENT
DTSTART:20100330T133000Z
DTEND:20100330T143000Z
X-MICROSOFT-CDO-ALLDAYEVENT:FALSE
SUMMARY:Tuesday Topics
DESCRIPTION:Is Your Window Being Shopped? Come and learn tips on creating an eye catching window display. Gain insight on action steps\, keeping it simple\, developing a visually appealing window\, how to keep your window fresh\, and many more tips and tactics. Please RSVP online.
X-ALT-DESC;FMTTYPE=text/html:<div style="text-align: center">Is Your Window Being Shopped?</div><div style="text-align: center">&nbsp\;</div><div style="text-align: center">Come and learn tips on creating an eye catching window display. Gain insight on action steps\, keeping it simple\, developing a visually appealing window\, how to keep your window fresh\, and many more tips and tactics.</div><div style="text-align: center">&nbsp\;</div><div style="text-align: center">Please RSVP online.</div>
LOCATION:Salamander of Chicago4740 North Lincoln Ave.
UID:e.697.297
SEQUENCE:3
DTSTAMP:20260421T154328Z
URL:http://lincolnsquareravenswood.smartcms.site/events/details/tuesday-topics-297
END:VEVENT

END:VCALENDAR
