BEGIN:VCALENDAR
VERSION:2.0
PRODID:-//ChamberMaster//Event Calendar 2.0//EN
METHOD:PUBLISH
X-PUBLISHED-TTL:P3D
REFRESH-INTERVAL:P3D
CALSCALE:GREGORIAN
BEGIN:VEVENT
DTSTART:20111008T000000Z
DTEND:20111008T020000Z
X-MICROSOFT-CDO-ALLDAYEVENT:FALSE
SUMMARY:Umlaut Opening Artists Reception
DESCRIPTION:DANK Haus presents "Umlaut"\, a collaborative visual arts experience between Chicago and Berlin artists\, as part of Chicago Artists Month 2011\, the sixteenth annual celebration of Chicago's vibrant visual art community presented by the Chicago department of Cultural Affairs and Special Events and the Chicago Office of Tourism and Culture.
X-ALT-DESC;FMTTYPE=text/html:DANK Haus presents <em>&quot\;Umlaut&quot\;</em>\, a collaborative visual arts experience between Chicago and Berlin artists\, as part of Chicago Artists Month 2011\, the sixteenth annual celebration of Chicago&#39\;s vibrant visual art community presented by the Chicago department of Cultural Affairs and Special Events and the Chicago Office of Tourism and Culture.
LOCATION:4740 N. Western Ave. 4th Floor
UID:e.697.1911
SEQUENCE:3
DTSTAMP:20260420T081547Z
URL:http://lincolnsquareravenswood.smartcms.site/events/details/umlaut-opening-artists-reception-1911
END:VEVENT

END:VCALENDAR
