BEGIN:VCALENDAR
VERSION:2.0
PRODID:-//ChamberMaster//Event Calendar 2.0//EN
METHOD:PUBLISH
X-PUBLISHED-TTL:P3D
REFRESH-INTERVAL:P3D
CALSCALE:GREGORIAN
BEGIN:VEVENT
DTSTART:20120413T220000Z
DTEND:20120414T010000Z
X-MICROSOFT-CDO-ALLDAYEVENT:FALSE
SUMMARY:Visibility Arts-Opening Night Reception
DESCRIPTION:Visibility Arts Search\, Inc Opening Night Reception for the Spring Show.
X-ALT-DESC;FMTTYPE=text/html:Visibility Arts Search\, Inc Opening Night Reception for the Spring Show.&nbsp\;&nbsp\;&nbsp\;&nbsp\;
LOCATION:The Planet Access Company Store 4727 N. Lincoln Ave.
UID:e.697.2543
SEQUENCE:3
DTSTAMP:20260419T215842Z
URL:http://lincolnsquareravenswood.smartcms.site/events/details/visibility-arts-opening-night-reception-2543
END:VEVENT

END:VCALENDAR
