BEGIN:VCALENDAR
VERSION:2.0
PRODID:-//ChamberMaster//Event Calendar 2.0//EN
METHOD:PUBLISH
X-PUBLISHED-TTL:P3D
REFRESH-INTERVAL:P3D
CALSCALE:GREGORIAN
BEGIN:VEVENT
DTSTART:20110910T190000Z
DTEND:20110910T200000Z
X-MICROSOFT-CDO-ALLDAYEVENT:FALSE
SUMMARY:Von Steuben Parade
DESCRIPTION:German-American Fest - Presented by the United German-American Societies of Chicago\n\n	\n		The parade celebrates Baron Friedrich von Steuben\, who came to this country as a volunteer offering his services to General George Washington.  General von Steuben converted the revolutionary army into a disciplined fighting force\, instilling in them much needed inspiration\, confidence and competence.\n\n		\n\n		The annual Von Steuben Parade is the German American Event of the year.  It is held in September\, when hundreds of participants march\, dance\, play music or ride the many beautiful floats on Lincoln Avenue and join the festivities later at the German-American Fest.\n\n		 \n	\n		Parade Route Details\n\n		On Saturday\, September 10th the following streets will be closed for the parade:\n	\n		\n			N. Lincoln Avenue will be closed from Irving Park Road to W. Eastwood Avenue.\n\n			 \n		\n			W. Eastwood Avenue will be closed from N. Lincoln Avenue to N. Western Avenue.\n\n			 \n		\n			N. Western Avenue will be closed from W. Eastwood Avenue to W. Lawrence Avenue.\n	\n	\n		 \n\n		The following street sections are scheduled to be closed at the following times:\n	\n		\n			N. Lincoln Avenue from Irving Park Road to Berteau is projected to be closed form 12:00pm   2:45pm.\n\n			 \n		\n			W. Montrose Avenue closed at Lincoln Avenue from 2:00pm   2:45pm\n\n			 \n		\n			All East-West streets along the parade route will be closed as the parade goes by.\n\n			 \n		\n			N. Western Avenue closes at W. Irving Park Road to W. Lawrence Avenue (Northbound Only) from 2:15pm   3:00pm.
X-ALT-DESC;FMTTYPE=text/html:<br />\n<u><strong>German-American Fest - Presented by the United German-American Societies of Chicago</strong></u>\n<td class="TextObject" width="309">\n	<p>\n		The parade celebrates Baron Friedrich von Steuben\, who came to this country as a volunteer offering his services to General George Washington.&nbsp\; General von Steuben converted the revolutionary army into a disciplined fighting force\, instilling in them much needed inspiration\, confidence and competence.<br />\n		<br />\n		The annual Von Steuben Parade is the German American Event of the year.&nbsp\; It is held in September\, when hundreds of participants march\, dance\, play music or ride the many beautiful floats on Lincoln Avenue and join the festivities later at the German-American Fest.<br />\n		&nbsp\;</p>\n	<p>\n		<span style="font-size: 12px"><span style="font-family: arial"><u><strong>Parade Route&nbsp\;Details</strong></u><br />\n		On Saturday\, September 10<sup>th</sup> the following streets will be closed for the parade:</span></span></p>\n	<ul>\n		<li>\n			<span style="font-size: 12px"><span style="font-family: arial">N. Lincoln Avenue will be closed from Irving Park Road to W. Eastwood Avenue.</span></span><br />\n			&nbsp\;</li>\n		<li>\n			<span style="font-size: 12px"><span style="font-family: arial">W. Eastwood Avenue will be closed from N. Lincoln Avenue to N. Western Avenue.</span></span><br />\n			&nbsp\;</li>\n		<li>\n			<span style="font-size: 12px"><span style="font-family: arial">N. Western Avenue will be closed from W. Eastwood Avenue to W. Lawrence Avenue.</span></span></li>\n	</ul>\n	<p>\n		<span style="font-size: 12px"><span style="font-family: arial">&nbsp\;<br />\n		The following street sections are scheduled to be closed at the following times:</span></span></p>\n	<ul>\n		<li>\n			<span style="font-size: 12px"><span style="font-family: arial">N. Lincoln Avenue from Irving Park Road to Berteau is projected to be closed form 12:00pm &ndash\; 2:45pm.</span></span><br />\n			&nbsp\;</li>\n		<li>\n			<span style="font-size: 12px"><span style="font-family: arial">W. Montrose Avenue closed at Lincoln Avenue from 2:00pm &ndash\; 2:45pm</span></span><br />\n			&nbsp\;</li>\n		<li>\n			<span style="font-size: 12px"><span style="font-family: arial">All East-West streets along the parade route will be closed as the parade goes by.</span></span><br />\n			&nbsp\;</li>\n		<li>\n			<span style="font-size: 12px"><span style="font-family: arial">N. Western Avenue closes at W. Irving Park Road to W. Lawrence Avenue (Northbound Only) from 2:15pm &ndash\; 3:00pm.</span></span></li>\n	</ul>\n</td>\n
LOCATION:N. Lincoln Avenue
UID:e.697.1896
SEQUENCE:3
DTSTAMP:20260420T093920Z
URL:http://lincolnsquareravenswood.smartcms.site/events/details/von-steuben-parade-1896
END:VEVENT

END:VCALENDAR
