BEGIN:VCALENDAR
VERSION:2.0
PRODID:-//ChamberMaster//Event Calendar 2.0//EN
METHOD:PUBLISH
X-PUBLISHED-TTL:P3D
REFRESH-INTERVAL:P3D
CALSCALE:GREGORIAN
BEGIN:VEVENT
DTSTART:20111007T000000Z
DTEND:20111007T000000Z
X-MICROSOFT-CDO-ALLDAYEVENT:FALSE
SUMMARY:Witty Women at the Book Cellar
DESCRIPTION:Book Cellar's evening of Witty Women returns!  Featuring: Jen Lancaster\, Stacey Ballis\, Claire Zulkey\, Amy Guth\, and Wendy McClure.  Eat\, drink\, and laugh with some of the best writers and humorists Chicago has to offer.  Seating is limited so come early!
X-ALT-DESC;FMTTYPE=text/html:Book Cellar&#39\;s evening of Witty Women returns!&nbsp\; Featuring: <a href="http://www.jennsylvania.com/">Jen Lancaster</a>\, <a href="http://www.staceyballis.com/">Stacey Ballis</a>\, <a href="http://www.wbez.org/blogs/claire-zulkey">Claire Zulkey</a>\, <a href="http://www.guthagogo.com/">Amy Guth</a>\, and <a href="http://www.wendymcclure.net/">Wendy McClure</a>.&nbsp\; Eat\, drink\, and laugh with some of the best writers and humorists Chicago has to offer.&nbsp\; Seating is limited so come early!
LOCATION:The Book Cellar 4736-38 N Lincoln Ave
UID:e.697.2138
SEQUENCE:3
DTSTAMP:20260420T081653Z
URL:http://lincolnsquareravenswood.smartcms.site/events/details/witty-women-at-the-book-cellar-2138
END:VEVENT

END:VCALENDAR
