BEGIN:VCALENDAR
VERSION:2.0
PRODID:-//ChamberMaster//Event Calendar 2.0//EN
METHOD:PUBLISH
X-PUBLISHED-TTL:P3D
REFRESH-INTERVAL:P3D
CALSCALE:GREGORIAN
BEGIN:VEVENT
DTSTART:20110316T133000Z
DTEND:20110316T143000Z
X-MICROSOFT-CDO-ALLDAYEVENT:FALSE
SUMMARY:Women's Networking
DESCRIPTION:2011 Women's Networking \n\n	 Wednesday\, March 16th  8:30am\n\n	Julius Meinl\n \n\n	Join us for coffee and networking!
X-ALT-DESC;FMTTYPE=text/html:<p style="text-align: center">\n	<br />\n	<br />\n	<span style="font-size: medium"><span style="color: #857458"><span style="font-family: segoe print">2011 Women&#39\;s Networking&nbsp\;</span></span></span><br />\n	<span style="font-size: medium"><span style="color: #857458"><span style="font-family: segoe print">&nbsp\;Wednesday\,&nbsp\;March 16th </span></span></span><span style="font-size: medium"><span style="color: #857458"><span style="font-family: segoe print">&nbsp\;8:30am</span></span></span></p>\n<p style="text-align: center">\n	<span style="font-size: medium"><span style="color: #857458"><span style="font-family: segoe print">Julius Meinl</span></span></span></p>\n&nbsp\;\n<p style="text-align: center">\n	<span style="color: #857458"><span style="font-family: segoe print"><span style="font-size: medium">Join us for coffee and networking! </span></span></span></p>\n
LOCATION:Julius Meinl 4363 N Lincoln
UID:e.697.771
SEQUENCE:3
DTSTAMP:20260420T191019Z
URL:http://lincolnsquareravenswood.smartcms.site/events/details/women-s-networking-771
END:VEVENT

END:VCALENDAR
